BEGIN:VCALENDAR
VERSION:2.0
PRODID:-//ChamberMaster//Event Calendar 2.0//EN
METHOD:PUBLISH
X-PUBLISHED-TTL:P3D
REFRESH-INTERVAL:P3D
CALSCALE:GREGORIAN
BEGIN:VEVENT
DTSTART:20250621T000000Z
DTEND:20250621T035500Z
X-MICROSOFT-CDO-ALLDAYEVENT:FALSE
SUMMARY:Glow Party @ The Hilltop Tavern
DESCRIPTION:Lets party like its 1999!!! Bring your glow sticks!!!! DJ will start at 8pm. \n\n\n\nAfter 9pm 21+\n\n\n\n**Event is also on facebook
X-ALT-DESC;FMTTYPE=text/html:Lets party like its 1999!!! Bring your glow sticks!!!! DJ will start at 8pm.&nbsp\;<br />\n<br />\nAfter 9pm 21+<br />\n<br />\n**Event is also on facebook&nbsp\;
LOCATION:Hilltop Tavern 829 Arch Street Pittsford\, VT 05763
UID:e.3464.10098
SEQUENCE:3
DTSTAMP:20260421T132312Z
URL:https://members.rutlandvermont.com/events/details/glow-party-the-hilltop-tavern-10098
END:VEVENT

END:VCALENDAR
