BEGIN:VCALENDAR
VERSION:2.0
PRODID:-//ChamberMaster//Event Calendar 2.0//EN
METHOD:PUBLISH
X-PUBLISHED-TTL:P3D
REFRESH-INTERVAL:P3D
CALSCALE:GREGORIAN
BEGIN:VEVENT
DTSTART:20250707T213000Z
DTEND:20250708T000000Z
X-MICROSOFT-CDO-ALLDAYEVENT:FALSE
SUMMARY:Group Trail Runs
DESCRIPTION:Join Slate Valley Trails for our Monday night group trail runs starting in June!\n\nDistance: The route will vary weekly and may have two route options depending on the number of people. Expect a social pace (3-7 miles) with some elevation gain. There are options to cater to all abilities and shorten the route for anyone wanting to run a shorter distance.\n\nBring: plenty of water\, snacks\, bug spray\, and an after run beverage of choice.\n\nExtreme weather and downpours will cancel! Check for updates on this event page.\n\nQuestions: ellen.c.mcgrath@gmail.com
X-ALT-DESC;FMTTYPE=text/html:<span style="font-family:aptos\,sans-serif\;"><span style="font-size:12.0pt\;">Join Slate Valley Trails for our Monday night group trail runs starting in June!</span></span><br />\nDistance: The route will vary weekly and may have two route options depending on the number of people. Expect a social pace (3-7 miles) with some elevation gain. There are options to cater to all abilities and shorten the route for anyone wanting to run a shorter distance.<br />\nBring: plenty of water\, snacks\, bug spray\, and an after run beverage of choice.<br />\nExtreme weather and downpours will cancel! Check for updates on this event page.<br />\nQuestions: ellen.c.mcgrath@gmail.com&nbsp\;<br />\n&nbsp\;
LOCATION:Location: Locations may change each week. Please check the events calendar for location. https://slatevalleytrails.org/events/
UID:e.3464.10471
SEQUENCE:3
DTSTAMP:20260421T115843Z
URL:https://members.rutlandvermont.com/events/details/group-trail-runs-07-07-2025-10471
END:VEVENT

END:VCALENDAR
