BEGIN:VCALENDAR
VERSION:2.0
PRODID:-//ChamberMaster//Event Calendar 2.0//EN
METHOD:PUBLISH
X-PUBLISHED-TTL:P3D
REFRESH-INTERVAL:P3D
CALSCALE:GREGORIAN
BEGIN:VEVENT
DTSTART:20220712T230000Z
DTEND:20220713T003000Z
X-MICROSOFT-CDO-ALLDAYEVENT:FALSE
SUMMARY:Heritage Family Credit Union Presents: Castleton Summer Concerts at the Pavilion – New York Players
DESCRIPTION:Castleton University\, in partnership with Heritage Family Credit Union\, presents New York Players as part of the 27th annual Castleton Summer Concerts at the Pavilion series. New York Players is a variety dance band with an extensive catalog of songs ranging from Top 40 hits to ballads. Heritage Family Credit Union Presents: Castleton Summer Concerts at the Pavilion features a premier lineup of bands and musicians from late June through early August. The Castleton Pavilion is an indoor/outdoor facility\, which allows concerts to be held rain or shine. At each performance\, we'll collect non-perishable food items to support the Castleton Food Shelf.
X-ALT-DESC;FMTTYPE=text/html:Castleton University\, in partnership with Heritage Family Credit Union\, presents New York Players as part of the 27th annual Castleton Summer Concerts at the Pavilion series. New York Players is a variety dance band with an extensive catalog of songs ranging from Top 40 hits to ballads. Heritage Family Credit Union Presents: Castleton Summer Concerts at the Pavilion features a premier lineup of bands and musicians from late June through early August. The Castleton Pavilion is an indoor/outdoor facility\, which allows concerts to be held rain or shine. At each performance\, we&#39\;ll collect non-perishable food items to support the Castleton Food Shelf.
LOCATION:Castleton Pavilion 360 South Street\, Castleton\, VT
UID:e.3464.7211
SEQUENCE:3
DTSTAMP:20260420T102341Z
URL:https://members.rutlandvermont.com/events/details/heritage-family-credit-union-presents-castleton-summer-concerts-at-the-pavilion-new-york-players-7211
END:VEVENT

END:VCALENDAR
