BEGIN:VCALENDAR
VERSION:2.0
PRODID:-//ChamberMaster//Event Calendar 2.0//EN
METHOD:PUBLISH
X-PUBLISHED-TTL:P3D
REFRESH-INTERVAL:P3D
CALSCALE:GREGORIAN
BEGIN:VEVENT
DTSTART:20250621T220000Z
DTEND:20250622T020000Z
X-MICROSOFT-CDO-ALLDAYEVENT:FALSE
SUMMARY:Hollywood Nights: The Bob Seger Experience
DESCRIPTION:Hollywood Nights   The Bob Seger Experience is the ultimate tribute to Bob Seger and the Silver Bullet Band. They are a 9-piece band based in New Jersey who continues to strive to recreate everything about Bob Seger and his music down to the core. They pride themselves on carrying on the legacy of Bob Seger's unforgettable high-energy shows\, roaring raspy vocals\, and the groundwork Bob has laid over the past 30 years. Hollywood Nights shares the belief that only Bob and his fans have come to know\, learn\, and love: Represent the voice of every fan\, his or her values\, working-class background\, and the love of rock 'n' roll. If you are a true fan of Bob Seger and the Silver Bullet Band\, you won't want to miss Hollywood Nights.
X-ALT-DESC;FMTTYPE=text/html:<b style="box-sizing: border-box\; font-weight: bold\; color: rgb(0\, 0\, 0)\; font-family: sans-serif\; font-size: 17px\;">Hollywood Nights &ndash\; The Bob Seger Experience&nbsp\;</b><span style="color: rgb(0\, 0\, 0)\; font-family: sans-serif\; font-size: 17px\;">is the ultimate tribute to&nbsp\;Bob Seger and the Silver Bullet Band. They are a 9-piece band based in New Jersey who continues to strive to recreate everything about Bob Seger and his music down to the core. They pride themselves on carrying on the legacy of Bob Seger&rsquo\;s unforgettable high-energy shows\, roaring raspy vocals\, and the groundwork Bob has laid over the past 30 years. Hollywood Nights shares the belief that only Bob and his fans have come to know\, learn\, and love: Represent the voice of every fan\, his or her values\, working-class background\, and the love of rock &lsquo\;n&lsquo\; roll. If you are a true fan of Bob Seger and the Silver Bullet Band\, you won&rsquo\;t want to miss Hollywood Nights.</span>
LOCATION:30 Center Street Rutland\, VT 05701
UID:e.3464.9759
SEQUENCE:3
DTSTAMP:20260421T132324Z
URL:https://members.rutlandvermont.com/events/details/hollywood-nights-the-bob-seger-experience-9759
END:VEVENT

END:VCALENDAR
