BEGIN:VCALENDAR
VERSION:2.0
PRODID:-//ChamberMaster//Event Calendar 2.0//EN
METHOD:PUBLISH
X-PUBLISHED-TTL:P3D
REFRESH-INTERVAL:P3D
CALSCALE:GREGORIAN
BEGIN:VEVENT
DTSTART:20250808T213000Z
DTEND:20250809T003000Z
X-MICROSOFT-CDO-ALLDAYEVENT:FALSE
SUMMARY:Jackson Gore Summit Music Series: Cold Chocolate
DESCRIPTION:The Jackson Gore Summer Music Series is back for 2025!\n\n\n\nJoin us in the Jackson Gore Courtyard 5:30pm - 8:30pm 6/27 - 8/29 for a total of 10 FREE concerts!\n\n\n\nBring your best lawn chairs and picnic blankets and enjoy top regional bands in the area.
X-ALT-DESC;FMTTYPE=text/html:The Jackson Gore Summer Music Series is back for 2025!<br />\n<br />\nJoin us in the Jackson Gore Courtyard 5:30pm - 8:30pm 6/27 - 8/29 for a total of 10 FREE concerts!<br />\n<br />\nBring your best lawn chairs and picnic blankets and enjoy top regional bands in the area.
LOCATION:111 Jackson Gore Rd\, Ludlow\, VT 05149
UID:e.3464.12101
SEQUENCE:3
DTSTAMP:20260421T132324Z
URL:https://members.rutlandvermont.com/events/details/jackson-gore-summit-music-series-cold-chocolate-12101
END:VEVENT

END:VCALENDAR
