BEGIN:VCALENDAR
VERSION:2.0
PRODID:-//ChamberMaster//Event Calendar 2.0//EN
METHOD:PUBLISH
X-PUBLISHED-TTL:P3D
REFRESH-INTERVAL:P3D
CALSCALE:GREGORIAN
BEGIN:VEVENT
DTSTART:20250629T210000Z
DTEND:20250629T230000Z
X-MICROSOFT-CDO-ALLDAYEVENT:FALSE
SUMMARY:Jaws Swim Party-For Youth 11-17
DESCRIPTION:Get ready for an early evening of suspense\, swimming\, and slices! Join us for a Jaws Swim Party featuring an optional poolside screening of the classic thriller Jaws (1975).\nSwimsuits required if swimming\n\nNo rafts or floating devices allowed\n\nPizza and water provided\n\nLifeguards on duty\; pool rules will be enforced\n\nCome for the movie\, the food\, or just the vibes. Just don't forget to RSVP.\n\nRSVP: https://docs.google.com/.../1FAIpQLSeXrFDTjgrw54.../viewform\n\nFor questions or to volunteer\, contact Arwen@comealiveoutside.com
X-ALT-DESC;FMTTYPE=text/html:<span style="color: rgb(226\, 229\, 233)\; font-family: &quot\;Segoe UI Historic&quot\;\, &quot\;Segoe UI&quot\;\, Helvetica\, Arial\, sans-serif\; font-size: 15px\; background-color: rgb(37\, 39\, 40)\;">Get ready for an early evening of suspense\, swimming\, and slices! Join us for a Jaws Swim Party featuring an optional poolside screening of the classic thriller Jaws (1975).</span>\n<div class="x14z9mp xat24cr x1lziwak x1vvkbs xtlvy1s" style="margin: 0.5em 0px 0px\; overflow-wrap: break-word\; font-family: &quot\;Segoe UI Historic&quot\;\, &quot\;Segoe UI&quot\;\, Helvetica\, Arial\, sans-serif\; color: rgb(226\, 229\, 233)\; font-size: 15px\; background-color: rgb(37\, 39\, 40)\;">Swimsuits required if swimming</div>\n\n<div class="x14z9mp xat24cr x1lziwak x1vvkbs xtlvy1s" style="margin: 0.5em 0px 0px\; overflow-wrap: break-word\; font-family: &quot\;Segoe UI Historic&quot\;\, &quot\;Segoe UI&quot\;\, Helvetica\, Arial\, sans-serif\; color: rgb(226\, 229\, 233)\; font-size: 15px\; background-color: rgb(37\, 39\, 40)\;">No rafts or floating devices allowed</div>\n\n<div class="x14z9mp xat24cr x1lziwak x1vvkbs xtlvy1s" style="margin: 0.5em 0px 0px\; overflow-wrap: break-word\; font-family: &quot\;Segoe UI Historic&quot\;\, &quot\;Segoe UI&quot\;\, Helvetica\, Arial\, sans-serif\; color: rgb(226\, 229\, 233)\; font-size: 15px\; background-color: rgb(37\, 39\, 40)\;">Pizza and water provided</div>\n\n<div class="x14z9mp xat24cr x1lziwak x1vvkbs xtlvy1s" style="margin: 0.5em 0px 0px\; overflow-wrap: break-word\; font-family: &quot\;Segoe UI Historic&quot\;\, &quot\;Segoe UI&quot\;\, Helvetica\, Arial\, sans-serif\; color: rgb(226\, 229\, 233)\; font-size: 15px\; background-color: rgb(37\, 39\, 40)\;">Lifeguards on duty\; pool rules will be enforced</div>\n\n<div class="x14z9mp xat24cr x1lziwak x1vvkbs xtlvy1s" style="margin: 0.5em 0px 0px\; overflow-wrap: break-word\; font-family: &quot\;Segoe UI Historic&quot\;\, &quot\;Segoe UI&quot\;\, Helvetica\, Arial\, sans-serif\; color: rgb(226\, 229\, 233)\; font-size: 15px\; background-color: rgb(37\, 39\, 40)\;">Come for the movie\, the food\, or just the vibes. Just don&rsquo\;t forget to RSVP.</div>\n\n<div class="x14z9mp xat24cr x1lziwak x1vvkbs xtlvy1s" style="margin: 0.5em 0px 0px\; overflow-wrap: break-word\; font-family: &quot\;Segoe UI Historic&quot\;\, &quot\;Segoe UI&quot\;\, Helvetica\, Arial\, sans-serif\; color: rgb(226\, 229\, 233)\; font-size: 15px\; background-color: rgb(37\, 39\, 40)\;">RSVP:&nbsp\;<a attributionsrc="/privacy_sandbox/comet/register/source/?xt=AZVLWBGgrckih1ZUNIloZVsn2gayQghsTr1HwNl5mS7l4_qxPlp9qJRYTdLGPnHUXcvHdCJkNFRE1Xi3W9dCqQYjOlkxf1B4Pi5-yOIFF4-2UqNNLOOY0tZxQWlwxuJlyVRaPrHL3_XWWGPxSmr4vRUqrdQkz4_LqBjeRFQP8LfWCDhSgu_mK13C_F1Z2B4wKQGvhhAimWbeXusqcJpicfVlO9YgHBDOGPEqFfFRKOTYFfBPRF4UmadO5FUcorM9mWd3aTcq8W2l_YAcnQBHMkfQyaIB4DiwhnGTZvWdCRnAWIFPekhGs8k4Mmmd1YkLhw883tn04oVzJEdWu5TGf_o1FP15poa7ylBXVuDp4f30gyKYoiqcPc9sZ0FbQKqq3uZrCFSZcPYmzn2MZbzp_nwEe7jSJ2axyUxKGVXqueULi_gLHS64sKtc4gme7QcHYmIt0LTnS9iSQk1nr2L3VtDgNiYaUI-1rspcki-x6cwsIm4WNlcNmptNPeuJuHrnMhxTxbVq-ZJ5d-xzbtEWAIXqO3nANT5_Jc0KdBcIF0cU3nyFyyS8dFAVcIAVbpE-sXYDNYMGlB-9cPUB8w-SronfCL1kOVBLduED66JklLhEKFLBjVVgYSVB0i5ig3MYmaML1ew3HdU5JCLb8KaumKu3MQCkHBYEOGaNSAY99e0qq7RgSENp76VyFxkrL0mlSid-4JhK6yyHkgHly2oNrWFGZRZAh-MFot3TTFDrH7t2GiKXOckqAzfCY_CgMiSlbJJBI70Shx-NjjpM8BXKaBIdD9LLesvb98XFZHHyjJkMrykEw6Sg7xqFX_l1iEl1KUKaPz8QsvSXmmyMahAi_nbJEvhTY2190EDmfHbDlHTB5Q" class="x1i10hfl xjbqb8w x1ejq31n x18oe1m7 x1sy0etr xstzfhl x972fbf x10w94by x1qhh985 x14e42zd x9f619 x1ypdohk xt0psk2 xe8uvvx xdj266r x14z9mp xat24cr x1lziwak xexx8yu xyri2b x18d9i69 x1c1uobl x16tdsg8 x1hl2dhg xggy1nq x1a2a7pz xkrqix3 x1sur9pj x1fey0fg x1s688f" href="https://docs.google.com/forms/d/e/1FAIpQLSeXrFDTjgrw54lYzNtZStWDDh7cpf55AZUHMDH7fcC3CZaukQ/viewform?fbclid=IwZXh0bgNhZW0CMTAAYnJpZBExaUlEdUd3YXExdGNUbUZ6egEecPPITtnP4cLs38Ri8f7OJrsGNf8edqh7Io84ts76VFt5QXL3AB4E6r5fgDE_aem_5yZ1QenafS9zUs2M6S4ytg" rel="nofollow noreferrer" role="link" style="color: rgb(90\, 167\, 255)\; cursor: pointer\; text-decoration-line: none\; list-style: none\; border-width: 0px\; margin: 0px\; text-align: inherit\; border-style: none\; padding: 0px\; box-sizing: border-box\; background-color: transparent\; outline: none\; -webkit-tap-highlight-color: transparent\; font-weight: 600\; touch-action: manipulation\; display: inline\; font-family: inherit\;" tabindex="0" target="_blank">https://docs.google.com/.../1FAIpQLSeXrFDTjgrw54.../viewform</a></div>\n\n<div class="x14z9mp xat24cr x1lziwak x1vvkbs xtlvy1s" style="margin: 0.5em 0px 0px\; overflow-wrap: break-word\; font-family: &quot\;Segoe UI Historic&quot\;\, &quot\;Segoe UI&quot\;\, Helvetica\, Arial\, sans-serif\; color: rgb(226\, 229\, 233)\; font-size: 15px\; background-color: rgb(37\, 39\, 40)\;">For questions or to volunteer\, contact Arwen@comealiveoutside.com&nbsp\;</div>\n
LOCATION:Whites Pool Rutland VT
UID:e.3464.10309
SEQUENCE:3
DTSTAMP:20260421T132542Z
URL:https://members.rutlandvermont.com/events/details/jaws-swim-party-for-youth-11-17-10309
END:VEVENT

END:VCALENDAR
