BEGIN:VCALENDAR
VERSION:2.0
PRODID:-//ChamberMaster//Event Calendar 2.0//EN
METHOD:PUBLISH
X-PUBLISHED-TTL:P3D
REFRESH-INTERVAL:P3D
CALSCALE:GREGORIAN
BEGIN:VEVENT
DTSTART:20250706T140000Z
DTEND:20250706T170000Z
X-MICROSOFT-CDO-ALLDAYEVENT:FALSE
SUMMARY:Jumper Fun Day
DESCRIPTION:Ride up to 4 classes for $65. Post entry fee an additional $20. Additional classes may be added for $15/each\, with no post entry fee as long as you are pre-entered for the event by Thursday July 3.\n\nClass 1 Clean Round/Jump Off\n\nClass 2 Red Solo Cup\n\nClass 3 Musical Freestyle/Costume\n\nClass 4 Gambler's Choice\n\nThere will be small prizes for class winners\, but ribbons are not guaranteed (this is a spontaneous event!)\n\nFences will start as ground poles (if there is interest)\, and will be raised in 3" increments for each class.
X-ALT-DESC;FMTTYPE=text/html:Ride up to 4 classes for $65. Post entry fee an additional $20. Additional classes may be added for $15/each\, with no post entry fee as long as you are pre-entered for the event by Thursday July 3.<br />\nClass 1 Clean Round/Jump Off<br />\nClass 2 Red Solo Cup<br />\nClass 3 Musical Freestyle/Costume<br />\nClass 4 Gambler&rsquo\;s Choice<br />\nThere will be small prizes for class winners\, but ribbons are not guaranteed (this is a spontaneous event!)<br />\nFences will start as ground poles (if there is interest)\, and will be raised in 3&rdquo\; increments for each class.<br />\n&nbsp\;
LOCATION:Horse Amour 804 Eaton HI E Castleton VT
UID:e.3464.11721
SEQUENCE:3
DTSTAMP:20260421T114709Z
URL:https://members.rutlandvermont.com/events/details/jumper-fun-day-11721
END:VEVENT

END:VCALENDAR
