BEGIN:VCALENDAR
VERSION:2.0
PRODID:-//ChamberMaster//Event Calendar 2.0//EN
METHOD:PUBLISH
X-PUBLISHED-TTL:P3D
REFRESH-INTERVAL:P3D
CALSCALE:GREGORIAN
BEGIN:VEVENT
DTSTART:20250807T210000Z
DTEND:20250808T000000Z
X-MICROSOFT-CDO-ALLDAYEVENT:FALSE
SUMMARY:Killington Chili Cook-Off
DESCRIPTION:The much-anticipated Killington Chili Cook-Off is returning to the K-1 Base Lodge for its twelfth year on Thursday\, August 7 from 5:00 p.m. - 8:00 p.m. Join the competition and bring your finest chili to compete for the title of "Best Chili in Killington" or just come to taste! All proceeds benefit the Killington Recreation Scholarship Fund to support children in sports and summer programs. Enjoy live music during the night from Rick Reddington and Tuff Luv and an on-site cash bar (no outside alcohol is permitted).\n\nFor a full event overview\, including guidelines and FAQs\, please visit the Killington Rec Department website by clicking here.
X-ALT-DESC;FMTTYPE=text/html:<p style="box-sizing: border-box\; -webkit-font-smoothing: antialiased\; margin: 0px 0px 15px\; padding: 0px\; border: 0px\; font-variant-numeric: inherit\; font-variant-east-asian: inherit\; font-variant-alternates: inherit\; font-variant-position: inherit\; font-variant-emoji: inherit\; font-stretch: inherit\; line-height: 1.2\; font-family: akzidenz-grotesk-next-pro-400\; font-optical-sizing: inherit\; font-size-adjust: inherit\; font-kerning: inherit\; font-feature-settings: inherit\; font-variation-settings: inherit\; font-size: 18px\; vertical-align: baseline\; color: rgb(0\, 0\, 0)\;">The much-anticipated Killington Chili Cook-Off is returning to the&nbsp\;<strong style="box-sizing: border-box\; -webkit-font-smoothing: antialiased\; margin: 0px\; padding: 0px\; border: 0px\; font-style: inherit\; font-variant: inherit\; font-weight: bold\; font-stretch: inherit\; line-height: inherit\; font-family: inherit\; font-optical-sizing: inherit\; font-size-adjust: inherit\; font-kerning: inherit\; font-feature-settings: inherit\; font-variation-settings: inherit\; vertical-align: baseline\;">K-1 Base Lodge</strong>&nbsp\;for its twelfth year on Thursday\, August 7 from&nbsp\;<strong style="box-sizing: border-box\; -webkit-font-smoothing: antialiased\; margin: 0px\; padding: 0px\; border: 0px\; font-style: inherit\; font-variant: inherit\; font-weight: bold\; font-stretch: inherit\; line-height: inherit\; font-family: inherit\; font-optical-sizing: inherit\; font-size-adjust: inherit\; font-kerning: inherit\; font-feature-settings: inherit\; font-variation-settings: inherit\; vertical-align: baseline\;">5:00 p.m. - 8:00 p.m.</strong>&nbsp\;Join the competition and bring your finest chili to compete for the title of &quot\;Best Chili in Killington&quot\; or just come to taste! All proceeds benefit the Killington Recreation Scholarship Fund to support children in sports and summer programs. Enjoy live music during the night from&nbsp\;<strong style="box-sizing: border-box\; -webkit-font-smoothing: antialiased\; margin: 0px\; padding: 0px\; border: 0px\; font-style: inherit\; font-variant: inherit\; font-weight: bold\; font-stretch: inherit\; line-height: inherit\; font-family: inherit\; font-optical-sizing: inherit\; font-size-adjust: inherit\; font-kerning: inherit\; font-feature-settings: inherit\; font-variation-settings: inherit\; vertical-align: baseline\;">Rick Reddington and Tuff Luv</strong>&nbsp\;and an on-site cash bar (no outside alcohol is permitted).</p>\n\n<p style="box-sizing: border-box\; -webkit-font-smoothing: antialiased\; margin: 0px 0px 15px\; padding: 0px\; border: 0px\; font-variant-numeric: inherit\; font-variant-east-asian: inherit\; font-variant-alternates: inherit\; font-variant-position: inherit\; font-variant-emoji: inherit\; font-stretch: inherit\; line-height: 1.2\; font-family: akzidenz-grotesk-next-pro-400\; font-optical-sizing: inherit\; font-size-adjust: inherit\; font-kerning: inherit\; font-feature-settings: inherit\; font-variation-settings: inherit\; font-size: 18px\; vertical-align: baseline\; color: rgb(0\, 0\, 0)\;">For a full event overview\, including guidelines and FAQs\, please visit the Killington Rec Department website by&nbsp\;<a activities="" href="https://killingtonvt.myrec.com/info/activities/program_details.aspx?ProgramID=29480" https:="" info="" killingtonvt.myrec.com="" style="box-sizing: border-box\; -webkit-font-smoothing: antialiased\; margin: 0px\; padding: 0px\; border: 0px\; font-style: inherit\; font-variant: inherit\; font-weight: inherit\; font-stretch: inherit\; line-height: inherit\; font-optical-sizing: inherit\; font-size-adjust: inherit\; font-kerning: inherit\; font-feature-settings: inherit\; font-variation-settings: inherit\; vertical-align: baseline\; cursor: pointer\; text-decoration-line: none\; transition: color 0.25s ease-out\, background-color 0.25s ease-out\; color: rgb(0\, 156\, 219)\;" target="_blank href=">clicking here</a>.</p>\n
LOCATION:K1 Base Lodge
UID:e.3464.12009
SEQUENCE:3
DTSTAMP:20260421T132156Z
URL:https://members.rutlandvermont.com/events/details/killington-chili-cook-off-12009
END:VEVENT

END:VCALENDAR
