BEGIN:VCALENDAR
VERSION:2.0
PRODID:-//ChamberMaster//Event Calendar 2.0//EN
METHOD:PUBLISH
X-PUBLISHED-TTL:P3D
REFRESH-INTERVAL:P3D
CALSCALE:GREGORIAN
BEGIN:VEVENT
DTSTART:20250806T180000Z
DTEND:20250806T210000Z
X-MICROSOFT-CDO-ALLDAYEVENT:FALSE
SUMMARY:Killington Mountain Bike Bum Race Series
DESCRIPTION:Get ready for a local race series that's all about fun and friendly competition: the 10th annual Bike Bum race series returns starting June 25th! The 10-week race series is held on Wednesday afternoons (2:00 p.m.   5:00 p.m.) from June 25 to August 27.\n\n\n\nAll racers must check in at the top of the course by 4:30pm each week in order to participate.\n\n\n\nSign up to ride solo or form a team of up to five people. Teams may be made up of any combination of age categories & skill levels. Teams require a minimum of three people in order to score points. Racers will be placed in classes by age and will have one timed run each week. Rider scores will be based on the Division (see below) and Class they are in.\n\n\n\nNEW FOR THIS YEAR: Bike Bum is offering A and B Divisions to increase the weekly competition\, with the A Division competing on the upper & middle (black & blue) sections of Rabbit Hole and the B Division competing using the original course on the lower section (green) of Rabbit Hole. A Division riders should be intermediate or expert bikers and/or have been racers in this series before contact a race organizer if you are unsure of which Division to choose. ALL RIDERS (regardless of division) will check in each week at the tent near the START of Rabbit Hole.\n\n\n\nClick HERE to Register\n\n\n\nThe fun won't stop when you cross the finish line! Join us each week for an exclusive after-party for Bike Bum racers at one of our area restaurants from 5:00 p.m. - 7:00 p.m. Check the KMBC website for updates on the after-party schedule.
X-ALT-DESC;FMTTYPE=text/html:Get ready for a local race series that&rsquo\;s all about fun and friendly competition: <strong>the 10th annual Bike Bum race series</strong> returns starting June 25th! The 10-week race series is held on <strong>Wednesday afternoons <u>(2:00 p.m. &ndash\; 5:00 p.m.)</u> from June 25 to August 27</strong>.<br />\n<br />\nAll racers must check in at the top of the course by <u><strong>4:30pm</strong></u> each week in order to participate.<br />\n<br />\nSign up to ride solo or form a team of up to five people. Teams may be made up of any combination of age categories &amp\; skill levels. Teams require a minimum of three people in order to score points. Racers will be placed in classes by age and will have one timed run each week. Rider scores will be based on the Division (see below) and Class they are in.<br />\n<br />\n<strong>NEW FOR THIS YEAR</strong>: Bike Bum is offering A and B Divisions to increase the weekly competition\, with the A Division competing on the upper &amp\; middle (black &amp\; blue) sections of Rabbit Hole and the B Division competing using the original course on the lower section (green) of Rabbit Hole. A Division riders should be intermediate or expert bikers and/or have been racers in this series before&mdash\;contact a race organizer if you are unsure of which Division to choose. <strong><em>ALL RIDERS (regardless of division) will check in each week at the tent near the START of Rabbit Hole.</em><br />\n<br />\nClick&nbsp\;<a href="https://zone4.ca/register.asp?id=38647&amp\;lan=1&amp\;cartlevel=1">HERE</a>&nbsp\;to Register</strong><br />\n<br />\nThe fun won&rsquo\;t stop when you cross the finish line! Join us each week for an exclusive after-party for Bike Bum racers at one of our area restaurants from 5:00 p.m. - 7:00 p.m. Check the <a href="https://www.killingtonmountainbikeclub.org/collections/bike-bum">KMBC</a> website for updates on the after-party schedule.
LOCATION:Lower Rabbit Hole at Killington Resort. The trail is accessed via the snowshed Express lift. A valid lift ticket or season pass is required to participate.
UID:e.3464.12097
SEQUENCE:3
DTSTAMP:20260421T132626Z
URL:https://members.rutlandvermont.com/events/details/killington-mountain-bike-bum-race-series-12097
END:VEVENT

END:VCALENDAR
