BEGIN:VCALENDAR
VERSION:2.0
PRODID:-//ChamberMaster//Event Calendar 2.0//EN
METHOD:PUBLISH
X-PUBLISHED-TTL:P3D
REFRESH-INTERVAL:P3D
CALSCALE:GREGORIAN
BEGIN:VEVENT
DTSTART:20250703T220000Z
DTEND:20250703T233000Z
X-MICROSOFT-CDO-ALLDAYEVENT:FALSE
SUMMARY:Killington Summer Concert Series
DESCRIPTION:Fun summertime concert series. The Loonz bring their electric mixer of original music and some favorite colors.
X-ALT-DESC;FMTTYPE=text/html:Fun summertime concert series. The Loonz bring their electric mixer of original music and some favorite colors.&nbsp\;
LOCATION:Shelburne Memorial Library 2998 River Road Killington\, VT
UID:e.3464.12006
SEQUENCE:3
DTSTAMP:20260421T120546Z
URL:https://members.rutlandvermont.com/events/details/killington-summer-concert-series-12006
END:VEVENT

END:VCALENDAR
