BEGIN:VCALENDAR
VERSION:2.0
PRODID:-//ChamberMaster//Event Calendar 2.0//EN
METHOD:PUBLISH
X-PUBLISHED-TTL:P3D
REFRESH-INTERVAL:P3D
CALSCALE:GREGORIAN
BEGIN:VEVENT
DTSTART:20250719T160000Z
DTEND:20250719T200000Z
X-MICROSOFT-CDO-ALLDAYEVENT:FALSE
SUMMARY:Killington Uncorked: A Wine\, Spirits and Arts Festival
DESCRIPTION:Uncork the fun at the Killington Wine\, Spirits\, & Arts Festival! July 18-19: indulge in global wines\, gourmet food\, artisan wares & stunning views. Sip\, savor\, celebrate! #KillingtonUncorked
X-ALT-DESC;FMTTYPE=text/html:Uncork the fun at the Killington Wine\, Spirits\, &amp\; Arts Festival! July 18-19: indulge in global wines\, gourmet food\, artisan wares &amp\; stunning views. Sip\, savor\, celebrate! #KillingtonUncorked
LOCATION:Killington Resort 4763 Killington Rd Killington\, VT
UID:e.3464.11990
SEQUENCE:3
DTSTAMP:20260421T121027Z
URL:https://members.rutlandvermont.com/events/details/killington-uncorked-a-wine-spirits-and-arts-festival-11990
END:VEVENT

END:VCALENDAR
