BEGIN:VCALENDAR
VERSION:2.0
PRODID:-//ChamberMaster//Event Calendar 2.0//EN
METHOD:PUBLISH
X-PUBLISHED-TTL:P3D
REFRESH-INTERVAL:P3D
CALSCALE:GREGORIAN
BEGIN:VEVENT
DTSTART:20250624T230000Z
DTEND:20250625T010000Z
X-MICROSOFT-CDO-ALLDAYEVENT:FALSE
SUMMARY:Line Dancing Lessons
DESCRIPTION:Event held by Good Time Line Dancing \n\nLearn to line dance!!\n\nCash bar available\, no outside beverages allowed. \n\nA percentage of proceeds with benefit the West Rutland Legion Post 87 Fundraiser
X-ALT-DESC;FMTTYPE=text/html:Event held by Good Time Line Dancing&nbsp\;<br />\nLearn to line dance!!<br />\nCash bar available\, no outside beverages allowed.&nbsp\;<br />\nA percentage of proceeds with benefit the West Rutland Legion Post 87 Fundraiser
LOCATION:871 Pleasant Street West Rutland\, VT 05777
UID:e.3464.10465
SEQUENCE:3
DTSTAMP:20260421T131959Z
URL:https://members.rutlandvermont.com/events/details/line-dancing-lessons-10465
END:VEVENT

END:VCALENDAR
