BEGIN:VCALENDAR
VERSION:2.0
PRODID:-//ChamberMaster//Event Calendar 2.0//EN
METHOD:PUBLISH
X-PUBLISHED-TTL:P3D
REFRESH-INTERVAL:P3D
CALSCALE:GREGORIAN
BEGIN:VEVENT
DTSTART:20250729T213000Z
DTEND:20250729T221500Z
X-MICROSOFT-CDO-ALLDAYEVENT:FALSE
SUMMARY:Make Your Own Play-Dough Storytime
DESCRIPTION:Join us in the Fox Room for some stories and a chance to make your own play-dough!\n\nWe'll settle on the rug for a few stories before we start making our play-dough using Miss Amanda's favorite no-cook recipe. We'll be using flour\, salt\, water\, oil\, and food coloring. You can make as many colors as you have time for!\n\nRegistration is required so that we can prepare materials. \n\n\n\nRegistration for this event opens Tuesday\, July 15 at 12:00 AM.
X-ALT-DESC;FMTTYPE=text/html:<div class="event-description wysiwyg cf" style="margin: 0px 0px 1em\; padding: 0px\; box-sizing: border-box\; zoom: 1\; line-height: 1.5\; position: relative\; font-family: georgia\; color: rgb(0\, 0\, 0)\; font-size: 16px\;">\n<p style="margin: 0px 0px 1em\; padding: 0px\; box-sizing: border-box\; line-height: 1.5\;">Join us in the Fox Room for some stories and a chance to make your own play-dough!</p>\n\n<p style="margin: 0px 0px 1em\; padding: 0px\; box-sizing: border-box\; line-height: 1.5\;">We&#39\;ll settle on the rug for a few stories before we start making our play-dough using Miss Amanda&#39\;s favorite no-cook recipe. We&#39\;ll be using flour\, salt\, water\, oil\, and food coloring. You can make as many colors as you have time for!</p>\n\n<p style="margin: 0px 0px 1em\; padding: 0px\; box-sizing: border-box\; line-height: 1.5\;">Registration is required so that we can prepare materials.&nbsp\;</p>\n</div>\n\n<div class="event-registration-information" style="margin: 0px\; padding: 1em 0px\; box-sizing: border-box\; border-top: 1px solid rgb(209\, 211\, 212)\; color: rgb(0\, 0\, 0)\; font-family: &quot\;Source Sans 3&quot\;\, tahoma\, arial\, sans-serif\; font-size: 16px\;">\n<p class="event-registration-opens" style="margin: 0px 0px 1em\; padding: 0px\; box-sizing: border-box\; line-height: 1.5\;">Registration for this event opens Tuesday\, July 15 at 12:00 AM.</p>\n</div>\n
LOCATION:Rutland Free Library 10 Court St \, Rutland \, VT\, 05701
UID:e.3464.12024
SEQUENCE:3
DTSTAMP:20260421T120112Z
URL:https://members.rutlandvermont.com/events/details/make-your-own-play-dough-storytime-12024
END:VEVENT

END:VCALENDAR
