BEGIN:VCALENDAR
VERSION:2.0
PRODID:-//ChamberMaster//Event Calendar 2.0//EN
METHOD:PUBLISH
X-PUBLISHED-TTL:P3D
REFRESH-INTERVAL:P3D
CALSCALE:GREGORIAN
BEGIN:VEVENT
DTSTART:20250620T230000Z
DTEND:20250621T010000Z
X-MICROSOFT-CDO-ALLDAYEVENT:FALSE
SUMMARY:Matilda Jr Highschool Show
DESCRIPTION:To those who do not know -\n\nDana Caroll's Music Studio will be presenting " MATILDA\, JR.\n\nJUNE 20\, 21\, and 22nd at Proctor High School\n\nTickets to our four performances are available in advance from our fabulous cast members\, Dana or online at TicketLeap
X-ALT-DESC;FMTTYPE=text/html:<div class="xdj266r x14z9mp xat24cr x1lziwak x1vvkbs" style="margin: 0px\; overflow-wrap: break-word\; font-family: &quot\;Segoe UI Historic&quot\;\, &quot\;Segoe UI&quot\;\, Helvetica\, Arial\, sans-serif\; color: rgb(226\, 229\, 233)\; font-size: 15px\; background-color: rgb(37\, 39\, 40)\;">To those who do not know -<br class="html-br" />\nDana Caroll&rsquo\;s Music Studio will be presenting &quot\; MATILDA\, JR.<br class="html-br" />\nJUNE 20\, 21\, and 22nd at Proctor High School</div>\n\n<div class="x14z9mp xat24cr x1lziwak x1vvkbs xtlvy1s" style="margin: 0.5em 0px 0px\; overflow-wrap: break-word\; font-family: &quot\;Segoe UI Historic&quot\;\, &quot\;Segoe UI&quot\;\, Helvetica\, Arial\, sans-serif\; color: rgb(226\, 229\, 233)\; font-size: 15px\; background-color: rgb(37\, 39\, 40)\;">Tickets to our four performances are available in advance from our fabulous cast members\, Dana or online at TicketLeap</div>\n
LOCATION:Proctor High School
UID:e.3464.10301
SEQUENCE:3
DTSTAMP:20260421T132324Z
URL:https://members.rutlandvermont.com/events/details/matilda-jr-highschool-show-10301
END:VEVENT

END:VCALENDAR
