BEGIN:VCALENDAR
VERSION:2.0
PRODID:-//ChamberMaster//Event Calendar 2.0//EN
METHOD:PUBLISH
X-PUBLISHED-TTL:P3D
REFRESH-INTERVAL:P3D
CALSCALE:GREGORIAN
BEGIN:VEVENT
DTSTART:20250707T140000Z
DTEND:20250707T170000Z
X-MICROSOFT-CDO-ALLDAYEVENT:FALSE
SUMMARY:Meeting (Drago)
DESCRIPTION:
X-ALT-DESC;FMTTYPE=text/html:
LOCATION:Small Meeting Room Rutland Free Library10 Court St \, Rutland \, VT\, 05701
UID:e.3464.12014
SEQUENCE:3
DTSTAMP:20260421T115637Z
URL:https://members.rutlandvermont.com/events/details/meeting-drago-12014
END:VEVENT

END:VCALENDAR
