BEGIN:VCALENDAR
VERSION:2.0
PRODID:-//ChamberMaster//Event Calendar 2.0//EN
METHOD:PUBLISH
X-PUBLISHED-TTL:P3D
REFRESH-INTERVAL:P3D
CALSCALE:GREGORIAN
BEGIN:VEVENT
DTSTART:20250624T163000Z
DTEND:20250624T194000Z
X-MICROSOFT-CDO-ALLDAYEVENT:FALSE
SUMMARY:Met Opera: Il Barbiere di Siviglia
DESCRIPTION:The Metropolitan Opera's 2024 25 Live in HD season comes to a close with a live transmission of Rossini's effervescent comedy on May 31. Russian mezzo-soprano Aigul Akhmetshina headlines a winning ensemble as the feisty heroine\, Rosina\, alongside American tenor Jack Swanson\, in his Met debut\, as her secret beloved\, Count Almaviva. Moldovan baritone Andrey Zhilikhovsky stars as Figaro\, the ingenious barber of Seville\, with Hungarian bass-baritone Peter Ka lma n as Dr. Bartolo and Russian bass Alexander Vinogradov as Don Basilio rounding out the principal cast. Giacomo Sagripanti conducts Bartlett Sher's madcap production.\n\nThis season's Encore Metropolitan Opera Series is presented in honor of Kathy & Bill Harm.
X-ALT-DESC;FMTTYPE=text/html:<p style="box-sizing: border-box\; margin: 0px 0px 10px\; font-family: sans-serif\; line-height: 1.4em\; color: rgb(0\, 0\, 0)\; font-size: 17px\;">The Metropolitan Opera&rsquo\;s 2024&ndash\;25 Live in HD season comes to a close with a live transmission of Rossini&rsquo\;s effervescent comedy on May 31. Russian mezzo-soprano Aigul Akhmetshina headlines a winning ensemble as the feisty heroine\, Rosina\, alongside American tenor Jack Swanson\, in his Met debut\, as her secret beloved\, Count Almaviva. Moldovan baritone Andrey Zhilikhovsky stars as Figaro\, the ingenious barber of Seville\, with Hungarian bass-baritone Peter Ka&#769\;lma&#769\;n as Dr. Bartolo and Russian bass Alexander Vinogradov as Don Basilio rounding out the principal cast. Giacomo Sagripanti conducts Bartlett Sher&rsquo\;s madcap production.</p>\n\n<p style="box-sizing: border-box\; margin: 0px 0px 10px\; font-family: sans-serif\; line-height: 1.4em\; color: rgb(0\, 0\, 0)\; font-size: 17px\;"><em style="box-sizing: border-box\;">This season&rsquo\;s Encore Metropolitan Opera Series is presented in honor of Kathy &amp\; Bill Harm.</em></p>\n
LOCATION:30 Center Street Rutland\, VT 05701
UID:e.3464.9760
SEQUENCE:3
DTSTAMP:20260421T132407Z
URL:https://members.rutlandvermont.com/events/details/met-opera-il-barbiere-di-siviglia-9760
END:VEVENT

END:VCALENDAR
