BEGIN:VCALENDAR
VERSION:2.0
PRODID:-//ChamberMaster//Event Calendar 2.0//EN
METHOD:PUBLISH
X-PUBLISHED-TTL:P3D
REFRESH-INTERVAL:P3D
CALSCALE:GREGORIAN
BEGIN:VEVENT
DTSTART:20220205T180000Z
DTEND:20220205T200000Z
X-MICROSOFT-CDO-ALLDAYEVENT:FALSE
SUMMARY:MNFF: Storm Lake
DESCRIPTION:Beth Levison\, director of Storm Lake\, will participate in a post-screening Q&A with the audience!\n\nDark clouds hang over the cornfields of Storm Lake\, Iowa\, which has seen its fair share of change in the 40 years since Big Agriculture came to town. Farmers blow their life savings on new equipment they hope will keep their livelihoods intact. Migrant workers flock here welcome and not for their slice of the American Dream. The people of Storm Lake confront a changing community as global forces threaten their precarious\n\nexistence.\n\nEnter 63-year-old Pulitzer-prize winner Art Cullen and his family-run newspaper\, The Storm Lake Times. Day-in and day- out\, the Cullens deliver local news and biting editorials on a shoestring budget for their 3\,000 readers. Come hell or pandemic\, they'll fight to preserve this town they call home. There's simply too much at stake.\n\n \n\n\nThe Paramount requires proof of full vaccination or a negative COVID-19 test from all ticket holders age 12+. Effective February 1\, this policy changes to all patrons age 5+.\n\nRegardless of vaccination status\, all patrons are required to wear a face mask for the duration of the event they attend.\n\nThe Paramount requires all of its staff\, crew\, and volunteers to be vaccinated and masked.
X-ALT-DESC;FMTTYPE=text/html:<p style="box-sizing: border-box\; margin: 0px 0px 10px\; line-height: 1.4em\; color: rgb(0\, 0\, 0)\; font-family: Aller\, Helvetica\, Arial\, sans-serif\; font-size: 17px\;">Beth Levison\, director of Storm Lake\, will participate in a post-screening Q&amp\;A with the audience!</p>\n\n<p style="box-sizing: border-box\; margin: 0px 0px 10px\; line-height: 1.4em\; color: rgb(0\, 0\, 0)\; font-family: Aller\, Helvetica\, Arial\, sans-serif\; font-size: 17px\;">Dark clouds hang over the cornfields of Storm Lake\, Iowa\, which has seen its fair share of change in the 40 years since Big Agriculture came to town. Farmers blow their life savings on new equipment they hope will keep their livelihoods intact. Migrant workers flock here&mdash\;welcome and not&mdash\;for their slice of the American Dream. The people of Storm Lake confront a changing community as global forces threaten their precarious<br style="box-sizing: border-box\;" />\nexistence.</p>\n\n<p style="box-sizing: border-box\; margin: 0px 0px 10px\; line-height: 1.4em\; color: rgb(0\, 0\, 0)\; font-family: Aller\, Helvetica\, Arial\, sans-serif\; font-size: 17px\;">Enter 63-year-old Pulitzer-prize winner Art Cullen and his family-run newspaper\, The Storm Lake Times. Day-in and day- out\, the Cullens deliver local news and biting editorials on a shoestring budget for their 3\,000 readers. Come hell or pandemic\, they&rsquo\;ll fight to preserve this town they call home. There&rsquo\;s simply too much at stake.</p>\n\n<p style="box-sizing: border-box\; margin: 0px 0px 10px\; line-height: 1.4em\; color: rgb(0\, 0\, 0)\; font-family: Aller\, Helvetica\, Arial\, sans-serif\; font-size: 17px\;">&nbsp\;</p>\n\n<blockquote style="box-sizing: border-box\; padding: 12px 24px\; margin: 0px 0px 24px\; font-size: 21.25px\; border-left-color: rgb(230\, 231\, 232)\; color: rgb(0\, 0\, 0)\; font-family: Aller\, Helvetica\, Arial\, sans-serif\; font-style: normal\;">\n<p style="box-sizing: border-box\; margin: 0px 0px 10px\; line-height: 1.4em\;">The Paramount requires proof of full vaccination or a negative COVID-19 test from all ticket holders age 12+. Effective February 1\, this policy changes to all patrons age 5+.</p>\n\n<p style="box-sizing: border-box\; margin: 0px 0px 10px\; line-height: 1.4em\;">Regardless of vaccination status\, all patrons are required to wear a face mask for the duration of the event they attend.</p>\n\n<p style="box-sizing: border-box\; margin: 0px 0px 10px\; line-height: 1.4em\;">The Paramount requires all of its staff\, crew\, and volunteers to be vaccinated and masked.</p>\n</blockquote>\n
LOCATION:
UID:e.3464.6138
SEQUENCE:3
DTSTAMP:20260422T074649Z
URL:https://members.rutlandvermont.com/events/details/mnff-storm-lake-6138
END:VEVENT

END:VCALENDAR
