BEGIN:VCALENDAR
VERSION:2.0
PRODID:-//ChamberMaster//Event Calendar 2.0//EN
METHOD:PUBLISH
X-PUBLISHED-TTL:P3D
REFRESH-INTERVAL:P3D
CALSCALE:GREGORIAN
BEGIN:VEVENT
DTSTART;VALUE=DATE:20250730
DTEND;VALUE=DATE:20250803
TRANSP:TRANSPARENT
X-MICROSOFT-CDO-ALLDAYEVENT:TRUE
SUMMARY:MWA 87th Carnival
DESCRIPTION:Come out and join in on the 87th Annual MWA Carnival. There will be food\, rides and games. Join us nightly for some music and on Saturday there will be Tractor Pulls at 9am and our Parade at 4pm.
X-ALT-DESC;FMTTYPE=text/html:Come out and join in on the 87th Annual MWA Carnival. There will be food\, rides and games. Join us nightly for some music and on Saturday there will be Tractor Pulls at 9am and our Parade at 4pm.
LOCATION:61 MWA Loop Wells VT 05774
UID:e.3464.12026
SEQUENCE:3
DTSTAMP:20260421T115810Z
URL:https://members.rutlandvermont.com/events/details/mwa-87th-carnival-12026
END:VEVENT

END:VCALENDAR
