BEGIN:VCALENDAR
VERSION:2.0
PRODID:-//ChamberMaster//Event Calendar 2.0//EN
METHOD:PUBLISH
X-PUBLISHED-TTL:P3D
REFRESH-INTERVAL:P3D
CALSCALE:GREGORIAN
BEGIN:VEVENT
DTSTART:20250622T140000Z
DTEND:20250622T160000Z
X-MICROSOFT-CDO-ALLDAYEVENT:FALSE
SUMMARY:Nature Meditation Workshop
DESCRIPTION:Nature Meditation Workshop with mindful walking and Yoga. This event is for you to enjoy a spectacular setting with guides Moriah of VT Mindful Walks and Petra who have teamed up to share their enthusiasm for the outdoor experience. Please let us know if you're interested in attending any of the sessions listed on the flyer.
X-ALT-DESC;FMTTYPE=text/html:<span style="color: rgb(226\, 229\, 233)\; font-family: &quot\;Segoe UI Historic&quot\;\, &quot\;Segoe UI&quot\;\, Helvetica\, Arial\, sans-serif\; font-size: 15px\; background-color: rgb(37\, 39\, 40)\;">Nature Meditation Workshop with mindful walking and Yoga. This event is for you to enjoy a spectacular setting with guides Moriah of VT Mindful Walks and Petra who have teamed up to share their enthusiasm for the outdoor experience. Please let us know if you&rsquo\;re interested in attending any of the sessions listed on the flyer.</span>
LOCATION:Taconic Rambles Zen Garden
UID:e.3464.10313
SEQUENCE:3
DTSTAMP:20260421T132005Z
URL:https://members.rutlandvermont.com/events/details/nature-meditation-workshop-10313
END:VEVENT

END:VCALENDAR
