BEGIN:VCALENDAR
VERSION:2.0
PRODID:-//ChamberMaster//Event Calendar 2.0//EN
METHOD:PUBLISH
X-PUBLISHED-TTL:P3D
REFRESH-INTERVAL:P3D
CALSCALE:GREGORIAN
BEGIN:VEVENT
DTSTART:20250816T230000Z
DTEND:20250817T020000Z
X-MICROSOFT-CDO-ALLDAYEVENT:FALSE
SUMMARY:Oliver Anthony Music @ The Vermont State Fair
DESCRIPTION:Aug 16 2025\n\n\n\nGates open @ 7PM\, Showtime @ 8PM\n\n\n\n \n\nOliver Anthony Music's passionate voice\, featuring a unique and emotional rasp shaped by his personal battles\, captures the despair of those living without hope\, especially those who live in small-town or rural America. With lyrics that "give a voice to the feelings of people who often get left out of popular discourse and pop culture" (N PR)\, Oliver Anthony became the first artist in history to debut at No. One on the Billboard charts without previously having a song on the charts with his hit song "Rich Men North of Richmond."\n\nThe song has been streamed more than 153 million times on YouTube and has tallied more than 433 million across all streaming platforms. He is the first living male songwriter to chart 13 songs simultaneously in Billboard 's Top 50 Digital Song Sales. Five of his other songs have made iTunes' Top 10\, including "Ain't Got a Dollar\," which also claimed the No. One spot on Spotify's Viral 50 list.\n\nIn April 2024\, he released his first studio album\, Hymnal Of A Troubled Man's Mind\; the dynamic 10-song collection "hits on an emotional\, nostalgic musing of childhood joy compared to adulthood strife. These ideas expound on facets of human existence untouched by the political realm\, no matter which camp you find yourself on" (American Songwriter). Produced by Grammy winner Dave Cobb\, the album was praised by fans and critics for its "homespun sound" that shines light on "his grainy\, soulful vocal with acoustic guitars\, bass and fiddle" (Billboard).\n\nFor more information on new music and for a full list of upcoming tour dates\, visit www.oliveranthonymusic.com.
X-ALT-DESC;FMTTYPE=text/html:<div class="tribe-events-schedule updated published" style="box-sizing: border-box\; margin: 0px\; vertical-align: middle\; color: rgb(0\, 0\, 0)\; font-family: Aller\, Helvetica\, Arial\, sans-serif\; font-size: 17px\;">\n<h3 style="box-sizing: border-box\; font-family: inherit\; font-weight: 700\; line-height: 1.1\; color: inherit\; margin: 0px\; font-size: 1.2em\; text-transform: uppercase\; display: inline-block\; padding: 0px\; vertical-align: middle\; text-wrap-mode: nowrap\; zoom: 1\;"><span class="tribe-event-date-start" style="box-sizing: border-box\;"><span class="month" style="box-sizing: border-box\;">Aug</span>&nbsp\;<span class="day" style="box-sizing: border-box\;">16</span>&nbsp\;<span class="year" style="box-sizing: border-box\;">2025</span></span></h3>\n</div>\n\n<div class="tribe_single-event_copy" style="box-sizing: border-box\; margin-top: 20px\; color: rgb(0\, 0\, 0)\; font-family: Aller\, Helvetica\, Arial\, sans-serif\; font-size: 17px\;">\n<p style="box-sizing: border-box\; margin: 0px 0px 10px\; font-family: sans-serif\; line-height: 1.4em\;"><strong style="box-sizing: border-box\; font-weight: bold\;">Gates open @ 7PM\, Showtime @ 8PM</strong><br />\n<br />\n&nbsp\;</p>\n\n<p style="box-sizing: border-box\; margin: 0px 0px 10px\; font-family: sans-serif\; line-height: 1.4em\; color: rgb(0\, 0\, 0)\; font-size: 17px\;">Oliver Anthony Music&rsquo\;s passionate voice\, featuring a unique and emotional rasp shaped by his personal battles\, captures the despair of those living without hope\, especially those who live in small-town or rural America. With lyrics that &ldquo\;give a voice to the feelings of people who often get left out of popular discourse and pop culture&rdquo\; (N PR)\, Oliver Anthony became the first artist in history to debut at No. One on the Billboard charts without previously having a song on the charts with his hit song &ldquo\;Rich Men North of Richmond.&rdquo\;</p>\n\n<p style="box-sizing: border-box\; margin: 0px 0px 10px\; font-family: sans-serif\; line-height: 1.4em\; color: rgb(0\, 0\, 0)\; font-size: 17px\;">The song has been streamed more than 153 million times on YouTube and has tallied more than 433 million across all streaming platforms. He is the first living male songwriter to chart 13 songs simultaneously in Billboard &lsquo\;s Top 50 Digital Song Sales. Five of his other songs have made iTunes&rsquo\; Top 10\, including &ldquo\;Ain&rsquo\;t Got a Dollar\,&rdquo\; which also claimed the No. One spot on Spotify&rsquo\;s Viral 50 list.</p>\n\n<p style="box-sizing: border-box\; margin: 0px 0px 10px\; font-family: sans-serif\; line-height: 1.4em\; color: rgb(0\, 0\, 0)\; font-size: 17px\;">In April 2024\, he released his first studio album\, Hymnal Of A Troubled Man&rsquo\;s Mind\; the dynamic 10-song collection &ldquo\;hits on an emotional\, nostalgic musing of childhood joy compared to adulthood strife. These ideas expound on facets of human existence untouched by the political realm\, no matter which camp you find yourself on&rdquo\; (American Songwriter). Produced by Grammy winner Dave Cobb\, the album was praised by fans and critics for its &ldquo\;homespun sound&rdquo\; that shines light on &ldquo\;his grainy\, soulful vocal with acoustic guitars\, bass and fiddle&rdquo\; (Billboard).</p>\n\n<p style="box-sizing: border-box\; margin: 0px 0px 10px\; font-family: sans-serif\; line-height: 1.4em\; color: rgb(0\, 0\, 0)\; font-size: 17px\;">For more information on new music and for a full list of upcoming tour dates\, visit www.oliveranthonymusic.com.</p>\n\n<p style="box-sizing: border-box\; margin: 0px 0px 10px\; font-family: sans-serif\; line-height: 1.4em\;">&nbsp\;</p>\n</div>\n
LOCATION:This event located at The Vermont State Fairgrounds at The Diamonds and More Grandstand: 175 South Main St. Rutland\, Vermont 05701
UID:e.3464.9659
SEQUENCE:3
DTSTAMP:20260421T132341Z
URL:https://members.rutlandvermont.com/events/details/oliver-anthony-music-the-vermont-state-fair-9659
END:VEVENT

END:VCALENDAR
