BEGIN:VCALENDAR
VERSION:2.0
PRODID:-//ChamberMaster//Event Calendar 2.0//EN
METHOD:PUBLISH
X-PUBLISHED-TTL:P3D
REFRESH-INTERVAL:P3D
CALSCALE:GREGORIAN
BEGIN:VEVENT
DTSTART:20250713T180000Z
DTEND:20250713T200000Z
X-MICROSOFT-CDO-ALLDAYEVENT:FALSE
SUMMARY:Open Mic Poetry at Phoenix Books Rutland
DESCRIPTION:Join us for an afternoon of poetry at Phoenix Books Rutland.  Come to read\, come to listen\, or come for both!  Those interested in reading can sign up at the door.\n\n\nABOUT THE EVENT HOST:  Bianca Amira Zanella (she/they) is a queer Vermont-based performance poet\, multidisciplinary artist\, and poetic medicine healer. Zanella serves the community using poetry as a path to wholeness as The Paper Poet\, designing experiences to decrease hardship while increasing heartship. Her poems have appeared in Writing by Heart\, The Artful Mind\, and The Mountain Troubadour. She received the Corrine Eastman Davis Memorial Award\, Arthur Wallace Peach Memorial Award\, and is the former President of the Poetry Society of Vermont. Zanella's experimental poem-films\, interactive sculptural poems\, and poem-paintings have been on exhibit with PoemCity Montpelier\, Merwin...
X-ALT-DESC;FMTTYPE=text/html:<span style="font-family: Roboto\, sans-serif\; font-size: 16px\;">Join us for an afternoon of poetry at Phoenix Books Rutland. &nbsp\;Come to read\, come to listen\, or come for both!&nbsp\; Those interested in reading can sign up at the door.</span>\n<div class="views-field views-field-body" style="box-sizing: border-box\; font-family: Roboto\, sans-serif\; font-size: 16px\;">\n<div class="field-content" style="box-sizing: border-box\;">\n<p style="box-sizing: border-box\; margin: 0px 0px 25px\; padding: 0px\;">ABOUT THE EVENT HOST: &nbsp\;Bianca Amira Zanella (she/they) is a queer Vermont-based performance poet\, multidisciplinary artist\, and poetic medicine healer. Zanella serves the community using poetry as a path to wholeness as&nbsp\;<b style="box-sizing: border-box\; font-weight: bold\;"><i style="box-sizing: border-box\;">The Paper Poet\,&nbsp\;</i></b>designing experiences to decrease hardship while increasing&nbsp\;<b style="box-sizing: border-box\; font-weight: bold\;"><i style="box-sizing: border-box\;">heart</i></b>ship. Her poems have appeared in&nbsp\;<i style="box-sizing: border-box\;">Writing by Heart\, The Artful Mind\,&nbsp\;</i>and&nbsp\;<i style="box-sizing: border-box\;">The Mountain Troubadour.</i>&nbsp\;She received the&nbsp\;Corrine Eastman Davis Memorial Award\, Arthur Wallace Peach Memorial Award\, and is the former President of the Poetry Society of Vermont.&nbsp\;Zanella&rsquo\;s experimental poem-films\, interactive sculptural poems\, and poem-paintings have been on exhibit with&nbsp\;<i style="box-sizing: border-box\;">PoemCity Montpelier\,</i>&nbsp\;Merwin...</p>\n\n<div>&nbsp\;</div>\n</div>\n</div>\n
LOCATION:Phoenix Books 2 Center Street Rutland\, VT 05701
UID:e.3464.10085
SEQUENCE:3
DTSTAMP:20260421T120623Z
URL:https://members.rutlandvermont.com/events/details/open-mic-poetry-at-phoenix-books-rutland-10085
END:VEVENT

END:VCALENDAR
