BEGIN:VCALENDAR
VERSION:2.0
PRODID:-//ChamberMaster//Event Calendar 2.0//EN
METHOD:PUBLISH
X-PUBLISHED-TTL:P3D
REFRESH-INTERVAL:P3D
CALSCALE:GREGORIAN
BEGIN:VEVENT
DTSTART:20250706T160000Z
DTEND:20250706T200000Z
X-MICROSOFT-CDO-ALLDAYEVENT:FALSE
SUMMARY:Orwell Food & Farm Fest
DESCRIPTION:Celebrate our community of growers and makers!\n\nOn July 6 & September 7\, roll down to the Town Green between 12pm & 4pm for live music by Bird Mountain String Band\, farmers market\, crafts for kids\, and community socializing.\n\nCome hang out\, listen to music (bring a chair!)\, buy some locally grown/made produce and products\, and learn something about this great community.\n\nCurrent farms and makers attending the event include:\n\nChamplain Valley Mushrooms\n\nPeter's Wildflower Honey\n\nMaggie Ryan Baskets\n\nDanz Ahn Farm\n\nGarden Chick Farm & Yard\n\nFig Leaf Farm Produce\n\nChimera Meats Beef Jerky\n\nLoffredo's Italian Bakery\n\nHerons Llyn Farm Homespun wool and crafts\n\nSinging Cedars Farmstead Tomatoes and Produce\n\nOrwell Artists Group Art\n\nKnife Sharpening & knits with Joe & Barb\n\nQuiet Valley Fiber Designs\n\nAnd prepared food by Andy Buxton!\n\nAre you a maker/grower in Orwell who wants to participate? Please connect with the library! We would love to have you.
X-ALT-DESC;FMTTYPE=text/html:Celebrate our community of growers and makers!<br />\nOn July 6 &amp\; September 7\, roll down to the Town Green between 12pm &amp\; 4pm for live music by Bird Mountain String Band\, farmers market\, crafts for kids\, and community socializing.<br />\nCome hang out\, listen to music (bring a chair!)\, buy some locally grown/made produce and products\, and learn something about this great community.<br />\nCurrent farms and makers attending the event include:<br />\nChamplain Valley Mushrooms<br />\nPeter&#39\;s Wildflower Honey<br />\nMaggie Ryan Baskets<br />\nDanz Ahn Farm<br />\nGarden Chick Farm &amp\; Yard<br />\nFig Leaf Farm Produce<br />\nChimera Meats Beef Jerky<br />\nLoffredo&#39\;s Italian Bakery<br />\nHerons Llyn Farm Homespun wool and crafts<br />\nSinging Cedars Farmstead Tomatoes and Produce<br />\nOrwell Artists Group Art<br />\nKnife Sharpening &amp\; knits with Joe &amp\; Barb<br />\nQuiet Valley Fiber Designs<br />\nAnd prepared food by Andy Buxton!<br />\nAre you a maker/grower in Orwell who wants to participate? Please connect with the library! We would love to have you.&nbsp\;<br />\n&nbsp\;
LOCATION:Orwell Free Library 473 Main Street Orwell\, VT 05760
UID:e.3464.11999
SEQUENCE:3
DTSTAMP:20260421T120719Z
URL:https://members.rutlandvermont.com/events/details/orwell-food-farm-fest-11999
END:VEVENT

END:VCALENDAR
