BEGIN:VCALENDAR
VERSION:2.0
PRODID:-//ChamberMaster//Event Calendar 2.0//EN
METHOD:PUBLISH
X-PUBLISHED-TTL:P3D
REFRESH-INTERVAL:P3D
CALSCALE:GREGORIAN
BEGIN:VEVENT
DTSTART:20250619T220000Z
DTEND:20250620T000000Z
X-MICROSOFT-CDO-ALLDAYEVENT:FALSE
SUMMARY:Paint & Sip Party
DESCRIPTION:Join the Greater Killington Women's Club for a fun Paint & Sip Party on Thursday June 19th beginning at 6 pm at the KPAA Welcome Center in support of our scholarship/awards program. Claude Monet painted his beloved water garden about 250 times from the 1890s until he died in 1926. And he painted his water garden with the Japanese Foot Bridge at Giverny more than 18 times over more than 20 years. Artist Lauren Teton of Arty Party Vermont has adapted this oil painting to modern paints and materials so you can paint your own version of this masterpiece\, which is one of the highest-priced paintings of modern times. It is enjoyable and absorbing to paint\, and your results will surprise you! This event will also give you a deeper appreciation of the genius of Monet. This paint party is fun for everyone from first time beginners to experienced painters! Refreshments will be provided. The cost is $40 for GKWC members (& $45 for guests). Learn more & RSVP HERE:\n\nhttps://evite.me/8qmvq227Fj
X-ALT-DESC;FMTTYPE=text/html:<span style="color: rgb(226\, 229\, 233)\; font-family: &quot\;Segoe UI Historic&quot\;\, &quot\;Segoe UI&quot\;\, Helvetica\, Arial\, sans-serif\; font-size: 15px\; background-color: rgb(37\, 39\, 40)\;">Join the Greater Killington Women&#39\;s Club for a fun Paint &amp\; Sip Party on Thursday June 19th beginning at 6 pm at the KPAA Welcome Center in support of our scholarship/awards program. Claude Monet painted his beloved water garden about 250 times from the 1890s until he died in 1926. And he painted his water garden with the Japanese Foot Bridge at Giverny more than 18 times over more than 20 years. Artist Lauren Teton of Arty Party Vermont has adapted this oil painting to modern paints and materials so you can paint your own version of this masterpiece\, which is one of the highest-priced paintings of modern times. It is enjoyable and absorbing to paint\, and your results will surprise you! This event will also give you a deeper appreciation of the genius of Monet. This paint party is fun for everyone from first time beginners to experienced painters! Refreshments will be provided. The cost is $40 for GKWC members (&amp\; $45 for guests). Learn more &amp\; RSVP HERE:</span><br class="html-br" style="color: rgb(226\, 229\, 233)\; font-family: &quot\;Segoe UI Historic&quot\;\, &quot\;Segoe UI&quot\;\, Helvetica\, Arial\, sans-serif\; font-size: 15px\; background-color: rgb(37\, 39\, 40)\;" />\n<a attributionsrc="/privacy_sandbox/comet/register/source/?xt=AZVVEqRpfYkVsq6UBTHxcQ-_7lfbnuyjzXwKX5aNQO5TeoaBNC_UfKlz2MGNmuixmyd4ZtUsfXD-G498Fl2bzSzcLb_OVhlNFrilZx3c-Qh1T-9oTeGgKLvSe_HhTwj8dRnRGjG3NtI0ke2pkMrOYjg6IaUv02A92m6g37zbCcxwOCmYxdCcUzerQYhA2zUrq8xQiYP4CIIf8nZqnG9VWxUh8kN3fPBSCbGzXl6t5U-ZaBN32ioFCx6cTM9LYVUU3ooB3acIvO5s6zVIDXOZrGRXOk9NRge1gbApp-a4tuoSsIUivm6exXx4YIWZ_B_Vr-PDFiSNdY60qgPSbmbgl7SYFBmphB5Z6x6FRQ98DWaPKd2QZcuUdja0E3SAbldVnNmlyMmMmA03p6ptCCemWPDNEJONmv4WF9BhHy00ceovANE6iwJZhF4Grge9C73eP-BgZVnv_uiWP8IvIxmrCV7z8VkRBxPu-WvdeLbsJBdJ-9BcTLszq1hcZchTe3ImxDHDONoUIr7x7kx_Wn-52C7-5WQ_n-d4NzZMvy4v5-8_oGxCc1DGJg_q9zj8BaBjzPpAWEfiZFqjX3Chi7Z8IKGmXuT7xCHNmnABw0bU9NgJ93MoxAEfwg69Oat0QF9yu6H0JW6r9-_lK8xrUoq2wYyWa2X8anR9--2WpBOKOPjo3cp4n4dt9PRBmgB3aqS3-qNm_WY5OFB7vlQuS_3e3YfxEjz65378cmqykD2U-MWkoMBLn7UmSpUVHyme74LgRAoJM-Hf_IqnCFZRPDrjep7ME9S66LfG0jeLIqtfW_ncvDBhONhkmfkbJVoMwSAevqZQ5rVK_8-IGKV8iaTc3ygrmhJcQCx_QfQbH7bLSzP_oA" class="x1i10hfl xjbqb8w x1ejq31n x18oe1m7 x1sy0etr xstzfhl x972fbf x10w94by x1qhh985 x14e42zd x9f619 x1ypdohk xt0psk2 xe8uvvx xdj266r x14z9mp xat24cr x1lziwak xexx8yu xyri2b x18d9i69 x1c1uobl x16tdsg8 x1hl2dhg xggy1nq x1a2a7pz xkrqix3 x1sur9pj x1fey0fg x1s688f" href="https://l.facebook.com/l.php?u=https%3A%2F%2Fevite.me%2F8qmvq227Fj%3Ffbclid%3DIwZXh0bgNhZW0CMTAAYnJpZBExaUlEdUd3YXExdGNUbUZ6egEe0eSPdOGrHvZbID6R7Rjz6X8qKdgYJplVY0KxQOKf1Sw6i6Hn_isw3R8rHbk_aem_r2YUUdJKn4YLbTKNPu8V-w&amp\;h=AT1QGT4CBHU_lOGHe6en0OcTetl8fjqabJ3bGAG6KfXlVs8TnZVvc79mr_JFwIUWvNt43ODUday3lEgrqzWjl59E4KBG6mZEAfpp_Iz96fZY64khh9uuoD8yuFvgsVI_Dn9MxvHqQGbZhg&amp\;__tn__=q&amp\;c[0]=AT3djiyFl3IWt6esDPLtC8cEp8nArkVoYrRyCaN4DJwVB3Vbrm1y-bvpvp5KJQMDEIsc1RNlYbXa_cIibhOL1Oo58a64fJ5OuzC9761Y0GpSiJqrVrWTPlaGgZu_75aUo_b8MyxF6XGIr4YMithUxQskFUujvnV_e8CyFg" rel="nofollow noreferrer" role="link" style="color: rgb(90\, 167\, 255)\; cursor: pointer\; text-decoration-line: none\; list-style: none\; border-width: 0px\; margin: 0px\; border-style: none\; padding: 0px\; box-sizing: border-box\; background-color: rgb(37\, 39\, 40)\; outline: none\; -webkit-tap-highlight-color: transparent\; font-weight: 600\; touch-action: manipulation\; display: inline\; font-family: &quot\;Segoe UI Historic&quot\;\, &quot\;Segoe UI&quot\;\, Helvetica\, Arial\, sans-serif\; font-size: 15px\;" tabindex="0" target="_blank">https://evite.me/8qmvq227Fj</a><span style="color: rgb(226\, 229\, 233)\; font-family: &quot\;Segoe UI Historic&quot\;\, &quot\;Segoe UI&quot\;\, Helvetica\, Arial\, sans-serif\; font-size: 15px\; background-color: rgb(37\, 39\, 40)\;">&nbsp\;</span>
LOCATION:Killington Pics Area Association 2319 Route 4 Killington\, VT
UID:e.3464.10302
SEQUENCE:3
DTSTAMP:20260421T132021Z
URL:https://members.rutlandvermont.com/events/details/paint-sip-party-10302
END:VEVENT

END:VCALENDAR
