BEGIN:VCALENDAR
VERSION:2.0
PRODID:-//ChamberMaster//Event Calendar 2.0//EN
METHOD:PUBLISH
X-PUBLISHED-TTL:P3D
REFRESH-INTERVAL:P3D
CALSCALE:GREGORIAN
BEGIN:VEVENT
DTSTART:20250629T113000Z
DTEND:20250629T143000Z
X-MICROSOFT-CDO-ALLDAYEVENT:FALSE
SUMMARY:Pancake Breakfast- Castleton Fire Fighters Association Famous *
DESCRIPTION:Come on Down to Castleton American Legion on Sunday June 29 and let your Local Volunteer Firefighters cook you breakfast at the Castleton American Legion \n\nAll You Can Eat Pancake Breakfast includes:\n\nPancakes-Plain\, Blueberry\, and Chocolate Chip\n\nPlus\, Scrambled Eggs and Sausage\, Coffee & OJ
X-ALT-DESC;FMTTYPE=text/html:Come on Down to Castleton American Legion on Sunday June 29 and let your Local Volunteer Firefighters cook you breakfast at the Castleton American Legion&nbsp\;<br />\nAll You Can Eat Pancake Breakfast includes:<br />\nPancakes-Plain\, Blueberry\, and Chocolate Chip<br />\nPlus\, Scrambled Eggs and Sausage\, Coffee &amp\; OJ<br />\n&nbsp\;
LOCATION:American Legion 378 Route 4AW-Look for the BIG Army Tank
UID:e.3464.10459
SEQUENCE:3
DTSTAMP:20260421T132146Z
URL:https://members.rutlandvermont.com/events/details/pancake-breakfast-castleton-fire-fighters-association-famous-10459
END:VEVENT

END:VCALENDAR
