BEGIN:VCALENDAR
VERSION:2.0
PRODID:-//ChamberMaster//Event Calendar 2.0//EN
METHOD:PUBLISH
X-PUBLISHED-TTL:P3D
REFRESH-INTERVAL:P3D
CALSCALE:GREGORIAN
BEGIN:VEVENT
DTSTART:20250724T230000Z
DTEND:20250725T020000Z
X-MICROSOFT-CDO-ALLDAYEVENT:FALSE
SUMMARY:Paul Reiser Comedy Show
DESCRIPTION:Comedian\, actor\, television writer\, author and musician Paul Reiser is one of Hollywood's most prolific creatives.\n\nOn the heels of his new comedy "The Problem with People\," which he wrote\, produced\, and starred in alongside Colm Meaney and Jane Levy\, Reiser has upcoming projects across a multitude of media formats.\n\nIn March\, Carter Burke\, Reiser's iconic character from "Aliens" will be re-emerging in a "what-if" concept comic book from Marvel comics.\n\nReiser co-wrote  "What a Fool Believes\," the candid\, freewheeling memoir of his friend and Rock & Roll Hall of Famer Michael McDonald which will be published May 21 from HarperCollins/DeyStreet.\n\nLater\, in July\, Reiser will appear in Netflix's "Beverly Hills Cop: Axel F\, reprising his role from BH Cop 1 and 2 and will also appear in the independent comedy  "The Gutter\," directed by Isaiah and Yassir Lester\, premiering at SXSW.\n\nRecently Reiser could be seen in Hulu's critically-acclaimed comedy series "Reboot" from Modern Family creator Steve Levitan. Awards Daily wrote "Reiser truly excels\, giving one of his very best performances here\, he reminds us just how very funny and experienced he is in the world of television comedy."\n\nHe also took his first step into bloody\, superhero glory in Season 3 of Amazon Prime's Emmy-nominated The Boys playing "The Legend."\n\nReiser is widely celebrated for his roles in two hit shows for Netflix: Stranger Things the company's biggest series of all time  and Chuck Lorre's The Kominsky Method\, for which he received an Emmy nomination for Outstanding Supporting Actor.\n\nMad About You\, the long-running Emmy\, Peabody\, and Golden Globe-winning comedy that     Reiser created and starred in with Helen Hunt returned as a limited series on Spectrum Originals.\n\nThroughout his prolific career\, Reiser has worked with both independent and mainstream filmmakers. Having earned acclaim for his supporting role in the Academy Award-winning film Whiplash\, Reiser was also seen in frequent collaborator Jeff Baena's "The Little Hours" and "Horse Girl\," which premiered at Sundance 2020\, the fourth film the pair has worked on together. The veteran actor has garnered praise for notable performances in films such as Diner\, Bye Bye Love\, One Night At McCool's\, and The Thing About My Folks\, which Reiser wrote for his co-star Peter Falk.\n\nReiser is a fixture behind the camera as well. He co-created and produced the seven-episode series There's Johnny\, a fictional story set behind-the-scenes of Johnny Carson's Tonight Show circa 1972\, co-produced with director David Gordon Green.   The show premiered to critical praise\, with Decider saying There's Johnny! is "a television experience unlike any I've seen on TV in recent years" and "unfolds like a dream\, a memory fondly recalled."\n\nAs an author\, Reiser's first book\, Couplehood\, sold over two million copies and reached the number one spot on The New York Times bestsellers list. His subsequent books\, Babyhood and Familyhood\, were best sellers as well.\n\nVoted by Comedy Central as one of the Top 100 Comedians of All Time\, Reiser regularly performs sold-out standups at venues nationwide.\n\nA SUNY Binghamton graduate of its prestigious music program\, Reiser co-wrote the theme song for Mad About You\, "The Final Frontier\," with Grammy-winning producer Don Was\, and released an album of original songs with British singer-songwriter Julia Fordham called Unusual Suspects. Over the course of his career\, Reiser has received multiple Emmys\, Golden Globes\, American Comedy Awards\, and Screen Actors Guild nominations.\n\nReiser and his family reside in Los Angeles.
X-ALT-DESC;FMTTYPE=text/html:<p style="box-sizing: border-box\; margin: 0px 0px 10px\; font-family: sans-serif\; line-height: 1.4em\; color: rgb(0\, 0\, 0)\; font-size: 17px\;">Comedian\, actor\, television writer\, author and musician Paul Reiser is one of Hollywood&rsquo\;s most prolific creatives.</p>\n\n<p style="box-sizing: border-box\; margin: 0px 0px 10px\; font-family: sans-serif\; line-height: 1.4em\; color: rgb(0\, 0\, 0)\; font-size: 17px\;">On the heels of his new comedy &ldquo\;The Problem with People\,&rdquo\; which he wrote\, produced\, and starred in alongside Colm Meaney and Jane Levy\, Reiser has upcoming projects across a multitude of media formats.</p>\n\n<p style="box-sizing: border-box\; margin: 0px 0px 10px\; font-family: sans-serif\; line-height: 1.4em\; color: rgb(0\, 0\, 0)\; font-size: 17px\;">In March\, Carter Burke\, Reiser&rsquo\;s iconic character from &ldquo\;Aliens&rdquo\; will be re-emerging in a &ldquo\;what-if&rdquo\; concept comic book from Marvel comics.</p>\n\n<p style="box-sizing: border-box\; margin: 0px 0px 10px\; font-family: sans-serif\; line-height: 1.4em\; color: rgb(0\, 0\, 0)\; font-size: 17px\;">Reiser co-wrote&nbsp\; &ldquo\;What a Fool Believes\,&rdquo\; the candid\, freewheeling memoir of his friend and Rock &amp\; Roll Hall of Famer Michael McDonald which will be published May 21 from HarperCollins/DeyStreet.</p>\n\n<p style="box-sizing: border-box\; margin: 0px 0px 10px\; font-family: sans-serif\; line-height: 1.4em\; color: rgb(0\, 0\, 0)\; font-size: 17px\;">Later\, in July\, Reiser will appear in Netflix&rsquo\;s &ldquo\;Beverly Hills Cop: Axel F\, reprising his role from BH Cop 1 and 2 and will also appear in the independent comedy&nbsp\; &ldquo\;The Gutter\,&rdquo\; directed by Isaiah and Yassir Lester\, premiering at SXSW.</p>\n\n<p style="box-sizing: border-box\; margin: 0px 0px 10px\; font-family: sans-serif\; line-height: 1.4em\; color: rgb(0\, 0\, 0)\; font-size: 17px\;">Recently Reiser could be seen in Hulu&rsquo\;s critically-acclaimed comedy series &ldquo\;Reboot&rdquo\; from Modern Family creator Steve Levitan. Awards Daily wrote &ldquo\;Reiser truly excels\, giving one of his very best performances&hellip\;here\, he reminds us just how very funny and experienced he is in the world of television comedy.&rdquo\;</p>\n\n<p style="box-sizing: border-box\; margin: 0px 0px 10px\; font-family: sans-serif\; line-height: 1.4em\; color: rgb(0\, 0\, 0)\; font-size: 17px\;">He also took his first step into bloody\, superhero glory in Season 3 of Amazon Prime&rsquo\;s Emmy-nominated The Boys playing &ldquo\;The Legend.&rdquo\;</p>\n\n<p style="box-sizing: border-box\; margin: 0px 0px 10px\; font-family: sans-serif\; line-height: 1.4em\; color: rgb(0\, 0\, 0)\; font-size: 17px\;">Reiser is widely celebrated for his roles in two hit shows for Netflix: Stranger Things&mdash\;the company&rsquo\;s biggest series of all time&mdash\; and Chuck Lorre&rsquo\;s The Kominsky Method\, for which he received an Emmy nomination for Outstanding Supporting Actor.</p>\n\n<p style="box-sizing: border-box\; margin: 0px 0px 10px\; font-family: sans-serif\; line-height: 1.4em\; color: rgb(0\, 0\, 0)\; font-size: 17px\;">Mad About You\, the long-running Emmy\, Peabody\, and Golden Globe-winning comedy that&nbsp\;&nbsp\;&nbsp\;&nbsp\; Reiser created and starred in with Helen Hunt returned as a limited series on Spectrum Originals.</p>\n\n<p style="box-sizing: border-box\; margin: 0px 0px 10px\; font-family: sans-serif\; line-height: 1.4em\; color: rgb(0\, 0\, 0)\; font-size: 17px\;">Throughout his prolific career\, Reiser has worked with both independent and mainstream filmmakers. Having earned acclaim for his supporting role in the Academy Award-winning film Whiplash\, Reiser was also seen in frequent collaborator Jeff Baena&rsquo\;s &ldquo\;The Little Hours&rdquo\; and &ldquo\;Horse Girl\,&rdquo\; which premiered at Sundance 2020\, the fourth film the pair has worked on together. The veteran actor has garnered praise for notable performances in films such as Diner\, Bye Bye Love\, One Night At McCool&rsquo\;s\, and The Thing About My Folks\, which Reiser wrote for his co-star Peter Falk.</p>\n\n<p style="box-sizing: border-box\; margin: 0px 0px 10px\; font-family: sans-serif\; line-height: 1.4em\; color: rgb(0\, 0\, 0)\; font-size: 17px\;">Reiser is a fixture behind the camera as well. He co-created and produced the seven-episode series There&rsquo\;s Johnny\, a fictional story set behind-the-scenes of Johnny Carson&rsquo\;s Tonight Show circa 1972\, co-produced with director David Gordon Green.&nbsp\;&nbsp\; The show premiered to critical praise\, with Decider saying There&rsquo\;s Johnny! is &ldquo\;a television experience unlike any I&rsquo\;ve seen on TV in recent years&rdquo\; and &ldquo\;unfolds like a dream\, a memory fondly recalled.&rdquo\;</p>\n\n<p style="box-sizing: border-box\; margin: 0px 0px 10px\; font-family: sans-serif\; line-height: 1.4em\; color: rgb(0\, 0\, 0)\; font-size: 17px\;">As an author\, Reiser&rsquo\;s first book\, Couplehood\, sold over two million copies and reached the number one spot on The New York Times bestsellers list. His subsequent books\, Babyhood and Familyhood\, were best sellers as well.</p>\n\n<p style="box-sizing: border-box\; margin: 0px 0px 10px\; font-family: sans-serif\; line-height: 1.4em\; color: rgb(0\, 0\, 0)\; font-size: 17px\;">Voted by Comedy Central as one of the Top 100 Comedians of All Time\, Reiser regularly performs sold-out standups at venues nationwide.</p>\n\n<p style="box-sizing: border-box\; margin: 0px 0px 10px\; font-family: sans-serif\; line-height: 1.4em\; color: rgb(0\, 0\, 0)\; font-size: 17px\;">A SUNY Binghamton graduate of its prestigious music program\, Reiser co-wrote the theme song for Mad About You\, &ldquo\;The Final Frontier\,&rdquo\; with Grammy-winning producer Don Was\, and released an album of original songs with British singer-songwriter Julia Fordham called Unusual Suspects. Over the course of his career\, Reiser has received multiple Emmys\, Golden Globes\, American Comedy Awards\, and Screen Actors Guild nominations.</p>\n\n<p style="box-sizing: border-box\; margin: 0px 0px 10px\; font-family: sans-serif\; line-height: 1.4em\; color: rgb(0\, 0\, 0)\; font-size: 17px\;">Reiser and his family reside in Los Angeles.</p>\n
LOCATION:30 Center Street Rutland\, VT 05701
UID:e.3464.9762
SEQUENCE:3
DTSTAMP:20260421T115739Z
URL:https://members.rutlandvermont.com/events/details/paul-reiser-comedy-show-9762
END:VEVENT

END:VCALENDAR
