BEGIN:VCALENDAR
VERSION:2.0
PRODID:-//ChamberMaster//Event Calendar 2.0//EN
METHOD:PUBLISH
X-PUBLISHED-TTL:P3D
REFRESH-INTERVAL:P3D
CALSCALE:GREGORIAN
BEGIN:VEVENT
DTSTART:20250802T160000Z
DTEND:20250802T210000Z
X-MICROSOFT-CDO-ALLDAYEVENT:FALSE
SUMMARY:Pittsford Day 2025!
DESCRIPTION:Let's celebrate our Sunshine Village! Join us for a 5k run\, family games\, live music\, beer garden & food!
X-ALT-DESC;FMTTYPE=text/html:Let&#39\;s celebrate our Sunshine Village! Join us for a 5k run\, family games\, live music\, beer garden &amp\; food!
LOCATION:223 Recreation Area Road Pittsford\, VT
UID:e.3464.12030
SEQUENCE:3
DTSTAMP:20260421T132145Z
URL:https://members.rutlandvermont.com/events/details/pittsford-day-2025-12030
END:VEVENT

END:VCALENDAR
