BEGIN:VCALENDAR
VERSION:2.0
PRODID:-//ChamberMaster//Event Calendar 2.0//EN
METHOD:PUBLISH
X-PUBLISHED-TTL:P3D
REFRESH-INTERVAL:P3D
CALSCALE:GREGORIAN
BEGIN:VEVENT
DTSTART:20250621T130000Z
DTEND:20250621T150000Z
X-MICROSOFT-CDO-ALLDAYEVENT:FALSE
SUMMARY:Pittsford Rec Bike Swap
DESCRIPTION:Pittsford and Brandon Rec departments have come together once again for a fantastic event. Join us for our 1st annual bike swap. .\n\n-Drop off a bike \n\n-Pick up a bike\n\n-Swap out a bike\n\n-Obstacle Course\n\n-Wash Station \n\n-Tune up Station \n\n\n\nAny questions please contact the Rec Director at recreation@pittsfordvermont.com
X-ALT-DESC;FMTTYPE=text/html:Pittsford and Brandon Rec departments have come together once again for a fantastic event. Join us for our 1st annual bike swap. .<br />\n-Drop off a bike&nbsp\;<br />\n-Pick up a bike<br />\n-Swap out a bike<br />\n-Obstacle Course<br />\n-Wash Station&nbsp\;<br />\n-Tune up Station&nbsp\;<br />\n<br />\nAny questions please contact the Rec Director at recreation@pittsfordvermont.com&nbsp\;
LOCATION:223 Recreation Area Road Pittsford\, VT 05763
UID:e.3464.10299
SEQUENCE:3
DTSTAMP:20260421T132513Z
URL:https://members.rutlandvermont.com/events/details/pittsford-rec-bike-swap-10299
END:VEVENT

END:VCALENDAR
