BEGIN:VCALENDAR
VERSION:2.0
PRODID:-//ChamberMaster//Event Calendar 2.0//EN
METHOD:PUBLISH
X-PUBLISHED-TTL:P3D
REFRESH-INTERVAL:P3D
CALSCALE:GREGORIAN
BEGIN:VEVENT
DTSTART:20250821T213000Z
DTEND:20250821T233000Z
X-MICROSOFT-CDO-ALLDAYEVENT:FALSE
SUMMARY:Pizza Social at Stone's Throw Farmstead
DESCRIPTION:Join us for farm-fresh pizza and a celebration of Stone's Throw Farmstead! Farmers Jess Purks and Connor Self operate a half-acre organic vegetable and flower farm in Shrewsbury\, Vermont. Now in their third growing season\, Jess and Connor are building a resilient food system from the ground up\, using minimal tillage\, human-powered tools\, and regenerative land stewardship practices that prioritize soil health and biodiversity. With support from a 2024 NOFA-VT Resilience Grant\, they continue to deepen their commitment to ecological farming on a small but mighty scale. RSVP and enjoy dinner baked in NOFA-VT's wood-fired pizza oven\, followed by a farm tour.
X-ALT-DESC;FMTTYPE=text/html:Join us for farm-fresh pizza and a celebration of Stone&rsquo\;s Throw Farmstead! Farmers Jess Purks and Connor Self operate a half-acre organic vegetable and flower farm in Shrewsbury\, Vermont. Now in their third growing season\, Jess and Connor are building a resilient food system from the ground up\, using minimal tillage\, human-powered tools\, and regenerative land stewardship practices that prioritize soil health and biodiversity. With support from a 2024 NOFA-VT Resilience Grant\, they continue to deepen their commitment to ecological farming on a small but mighty scale. RSVP and enjoy dinner baked in NOFA-VT&rsquo\;s wood-fired pizza oven\, followed by a farm tour.
LOCATION:Stone's Throw Farmstead 120 Wilmouth Hill Rd Shrewsbury\, VT 05738
UID:e.3464.12087
SEQUENCE:3
DTSTAMP:20260421T132312Z
URL:https://members.rutlandvermont.com/events/details/pizza-social-at-stone-s-throw-farmstead-12087
END:VEVENT

END:VCALENDAR
