BEGIN:VCALENDAR
VERSION:2.0
PRODID:-//ChamberMaster//Event Calendar 2.0//EN
METHOD:PUBLISH
X-PUBLISHED-TTL:P3D
REFRESH-INTERVAL:P3D
CALSCALE:GREGORIAN
BEGIN:VEVENT
DTSTART:20250628T233000Z
DTEND:20250629T020000Z
X-MICROSOFT-CDO-ALLDAYEVENT:FALSE
SUMMARY:Pond Hill Pro Rodeo
DESCRIPTION:First Rodeo of the 2025 Season!!!! Don't miss out on great family fun! The western way of life\, the attraction packed evening of stepping back in time and did we mention the sunsets??
X-ALT-DESC;FMTTYPE=text/html:First Rodeo of the 2025 Season!!!! Don&#39\;t miss out on great family fun! The western way of life\, the attraction packed evening of stepping back in time and did we mention the sunsets??
LOCATION:1683 Pond Hill Rd Castleton\, VT 05735
UID:e.3464.10306
SEQUENCE:3
DTSTAMP:20260421T132136Z
URL:https://members.rutlandvermont.com/events/details/pond-hill-pro-rodeo-10306
END:VEVENT

END:VCALENDAR
