BEGIN:VCALENDAR
VERSION:2.0
PRODID:-//ChamberMaster//Event Calendar 2.0//EN
METHOD:PUBLISH
X-PUBLISHED-TTL:P3D
REFRESH-INTERVAL:P3D
CALSCALE:GREGORIAN
BEGIN:VEVENT
DTSTART:20250726T233000Z
DTEND:20250727T020000Z
X-MICROSOFT-CDO-ALLDAYEVENT:FALSE
SUMMARY:Pond Hill Pro Rodeo
DESCRIPTION:Pond Hill Rodeo - Professional cowboys and cowgirls\, a real western feel in the heart of the Green Mountains! #SaturdaynightinVermont
X-ALT-DESC;FMTTYPE=text/html:Pond Hill Rodeo - Professional cowboys and cowgirls\, a real western feel in the heart of the Green Mountains!&nbsp\;<a href="https://www.facebook.com/hashtag/saturdaynightinvermont?__eep__=6&amp\;__cft__%5b0%5d=AZVS1WgpVGSRk8jQIllb5aPgp_SygyilSmfaXM36vU9RNcwrzeN_--Ehu19qY_x6LOnYYzMtrZbNZtkWn8JrWscnNUzieY87dmhoxrb13SRZgYIWdxG5ovP-J931Yjl-aLpmFl9xauIi4EHOiQNZ0iFh&amp\;__tn__=q"><strong>#SaturdaynightinVermont</strong></a>
LOCATION:Pond Hill Ranch 1683 Pond Hill Rd Castleton\, VT 05735
UID:e.3464.11715
SEQUENCE:3
DTSTAMP:20260421T115843Z
URL:https://members.rutlandvermont.com/events/details/pond-hill-pro-rodeo-11715
END:VEVENT

END:VCALENDAR
