BEGIN:VCALENDAR
VERSION:2.0
PRODID:-//ChamberMaster//Event Calendar 2.0//EN
METHOD:PUBLISH
X-PUBLISHED-TTL:P3D
REFRESH-INTERVAL:P3D
CALSCALE:GREGORIAN
BEGIN:VEVENT
DTSTART:20250621T140000Z
DTEND:20250621T160000Z
X-MICROSOFT-CDO-ALLDAYEVENT:FALSE
SUMMARY:Pop up Farmers Market
DESCRIPTION:Located at the site of the former and FUTURE village store (corner of stage and lake road) \n\nTriple H Farm will be supplying the plants
X-ALT-DESC;FMTTYPE=text/html:Located at the site of the former and FUTURE village store (corner of stage and lake road)&nbsp\;<br />\nTriple H Farm will be supplying the plants&nbsp\;
LOCATION:Benson\, VT
UID:e.3464.11993
SEQUENCE:3
DTSTAMP:20260421T132341Z
URL:https://members.rutlandvermont.com/events/details/pop-up-farmers-market-11993
END:VEVENT

END:VCALENDAR
