BEGIN:VCALENDAR
VERSION:2.0
PRODID:-//ChamberMaster//Event Calendar 2.0//EN
METHOD:PUBLISH
X-PUBLISHED-TTL:P3D
REFRESH-INTERVAL:P3D
CALSCALE:GREGORIAN
BEGIN:VEVENT
DTSTART;VALUE=DATE:20250704
DTEND;VALUE=DATE:20250705
TRANSP:TRANSPARENT
X-MICROSOFT-CDO-ALLDAYEVENT:TRUE
SUMMARY:Poultney 4th of July Celebration
DESCRIPTION:JULY 4TH Parade Theme announced\n\nThe celebration is on for July 4th in Poultney! This year's theme is "Enjoying Outdoor Adventures". \n\nPoultney offers so much in the way of outdoor adventures\, whether you enjoy water sports\, hiking\, biking\, bird watching\, or hunting. Celebrate your favorite outdoor adventure and show it off with your float! If you want to participate but you're not sure what kind of float or entry to create\, email development@poultneyvt.gov and they'll connect you with a float builder extraordinaire.    \n\nIt's your chance to celebrate Independence Day and life in Poultney\, and you might even win a prize! Organizations\, businesses\, informal groups\, families\, and even individuals can register. (It's fun\, and great publicity).\n\nJudging of entries will take place in East Poultney as the parade lines up. The Poultney Area Chamber of Commerce provides the judges for the five categories\, and winners will carry signs sponsored by Mars Insurance Agency. Categories include:  Best Depiction of the Organization\, Most Photographic\, Most Patriotic\, Best Depiction of the Theme\, and Business That Best Depicts the Theme. The Chamber will award cash prizes of $100.00 to each winner. \n\nForms are available at the Poultney Town Office\, Poultney Public Library\, and online at poultneyrecreation.com. Organizations\, businesses\, families\, and individuals are encouraged to join in!\n\nThe parade committee has been working very hard to make the day a success\, and we want you to join in the fun. So put your thinking cap on\, scour the internet for ideas\, or email the committee. We want to see YOU at Poultney's big 4th of July parade\, Friday\, July 4th\, 2025! \n\nContact: The 4th of July committee at development@poultneyvt.gov or the Poultney Chamber of Commerce at poultneyvtchamber@gmail.com\n\nSpecial thanks to Matthew "Lobo" Willis for graphic design services in support of the Poultney Area Chamber of Commerce & the Poultney Recreation July 4th Committee.
X-ALT-DESC;FMTTYPE=text/html:<h3 style="box-sizing: border-box\; margin: 0px 0px 1rem\; font-weight: 700\; color: rgb(97\, 97\, 97)\; font-size: 1.5rem\; font-family: Overpass\, sans-serif\;">&#127878\;JULY 4TH Parade Theme announced</h3>\n\n<p style="box-sizing: border-box\; margin-top: 0px\; margin-bottom: 2rem\; font-size: 1.125rem\; font-family: Overpass\, sans-serif\; color: rgb(33\, 37\, 41)\;">The celebration is on for July 4<span style="box-sizing: border-box\; position: relative\; font-size: 0.75em\; line-height: 0\; vertical-align: baseline\; top: -0.5em\;">th</span>&nbsp\;in Poultney! This year&rsquo\;s theme is &ldquo\;Enjoying Outdoor Adventures&rdquo\;.&nbsp\;</p>\n\n<p style="box-sizing: border-box\; margin-top: -1rem\; margin-bottom: 2rem\; font-size: 1.125rem\; font-family: Overpass\, sans-serif\; color: rgb(33\, 37\, 41)\;">Poultney offers so much in the way of outdoor adventures\, whether you enjoy water sports\, hiking\, biking\, bird watching\, or hunting. Celebrate your favorite outdoor adventure and show it off with your float! If you want to participate but you&rsquo\;re not sure what kind of float or entry to create\, email&nbsp\;<a data-mailto-token="esadlg2vwnwdghewflShgmdlfwqnl6ygn" data-mailto-vector="-8" href="https://www.poultneyrecreation.com/events/4th-of-july#" style="box-sizing: border-box\; color: rgb(71\, 90\, 75)\; text-underline-offset: 0.0625rem\;">development@poultneyvt.gov&nbsp\;</a>and they&rsquo\;ll connect you with a float builder extraordinaire.&nbsp\;&nbsp\;&nbsp\;&nbsp\;</p>\n\n<p style="box-sizing: border-box\; margin-top: -1rem\; margin-bottom: 2rem\; font-size: 1.125rem\; font-family: Overpass\, sans-serif\; color: rgb(33\, 37\, 41)\;">It&rsquo\;s your chance to celebrate Independence Day and life in Poultney\, and you might even win a prize! Organizations\, businesses\, informal groups\, families\, and even individuals can register. (It&rsquo\;s fun\, and great publicity).</p>\n\n<p style="box-sizing: border-box\; margin-top: -1rem\; margin-bottom: 2rem\; font-size: 1.125rem\; font-family: Overpass\, sans-serif\; color: rgb(33\, 37\, 41)\;">Judging of entries will take place in East Poultney as the parade lines up. The Poultney Area Chamber of Commerce provides the judges for the five categories\, and winners will carry signs sponsored by Mars Insurance Agency.&nbsp\;Categories include:&nbsp\;<em style="box-sizing: border-box\;">&nbsp\;Best Depiction of the Organization\, Most Photographic\, Most Patriotic\, Best Depiction of the Theme\, and Business That Best Depicts the Theme. The Chamber will award cash prizes of $100.00 to each winner.&nbsp\;</em></p>\n\n<p style="box-sizing: border-box\; margin-top: -1rem\; margin-bottom: 2rem\; font-size: 1.125rem\; font-family: Overpass\, sans-serif\; color: rgb(33\, 37\, 41)\;">Forms are&nbsp\;available at the Poultney Town Office\, Poultney Public Library\, and online at poultneyrecreation.com. Organizations\, businesses\, families\, and individuals are encouraged to join in!</p>\n\n<p style="box-sizing: border-box\; margin-top: -1rem\; margin-bottom: 2rem\; font-size: 1.125rem\; font-family: Overpass\, sans-serif\; color: rgb(33\, 37\, 41)\;">The parade committee has been working very hard to make the day a success\, and we want you to join in the fun. So put your thinking cap on\, scour the internet for ideas\, or email the committee. We want to see&nbsp\;<span style="box-sizing: border-box\; font-weight: 700\;">YOU</span>&nbsp\;at Poultney&rsquo\;s big 4th of July parade\, Friday\, July 4th\, 2025!&nbsp\;</p>\n\n<p style="box-sizing: border-box\; margin-top: -1rem\; margin-bottom: 2rem\; font-size: 1.125rem\; font-family: Overpass\, sans-serif\; color: rgb(33\, 37\, 41)\;">Contact: The 4<span style="box-sizing: border-box\; position: relative\; font-size: 0.75em\; line-height: 0\; vertical-align: baseline\; top: -0.5em\;">th</span>&nbsp\;of July committee at&nbsp\;<a data-mailto-token="esadlg2vwnwdghewflShgmdlfwqnl6ygn" data-mailto-vector="-8" href="https://www.poultneyrecreation.com/events/4th-of-july#" style="box-sizing: border-box\; color: rgb(71\, 90\, 75)\; text-underline-offset: 0.0625rem\;">development@poultneyvt.go</a>v or the&nbsp\;Poultney Chamber of Commerce at&nbsp\;<a data-mailto-token="esadlg2hgmdlfwqnluzsetwjSyesad6uge" data-mailto-vector="-8" href="https://www.poultneyrecreation.com/events/4th-of-july#" style="box-sizing: border-box\; color: rgb(71\, 90\, 75)\; text-underline-offset: 0.0625rem\;">poultneyvtchamber@gmail.com</a></p>\n\n<p style="box-sizing: border-box\; margin-top: -1rem\; margin-bottom: 2rem\; font-size: 1.125rem\; font-family: Overpass\, sans-serif\; color: rgb(33\, 37\, 41)\;"><small style="box-sizing: border-box\; font-size: 0.875em\;"><em style="box-sizing: border-box\;">Special thanks to Matthew &ldquo\;Lobo&rdquo\; Willis for graphic design services in support of the Poultney Area Chamber of Commerce &amp\; the Poultney Recreation July 4th Committee.</em></small></p>\n
LOCATION:Town of Poultney
UID:e.3464.9665
SEQUENCE:3
DTSTAMP:20260421T120524Z
URL:https://members.rutlandvermont.com/events/details/poultney-4th-of-july-celebration-9665
END:VEVENT

END:VCALENDAR
