BEGIN:VCALENDAR
VERSION:2.0
PRODID:-//ChamberMaster//Event Calendar 2.0//EN
METHOD:PUBLISH
X-PUBLISHED-TTL:P3D
REFRESH-INTERVAL:P3D
CALSCALE:GREGORIAN
BEGIN:VEVENT
DTSTART:20250713T120000Z
DTEND:20250713T210000Z
X-MICROSOFT-CDO-ALLDAYEVENT:FALSE
SUMMARY:Project Appleseed Rifle Clinic
DESCRIPTION:LEARN HOW TO BE EFFECTIVE WITH YOUR RIFLE OUT TO A QUARTER MILE! Or come out and continue your quest to earn our RIFLEMAN designation if you are working towards that honor.\n\nThis is a Traditional 25m Rifle Clinic. Learn more at https://appleseedinfo.org/how-to-prepare/\n\nWe will be teaching outstanding marksmanship skills\, various shooting positions\, known distance (including range estimation\, come ups\, target detection\, and more) doing rapid fire drills under time pressure. We will also be telling the story of April 19th\, 1775 and your heritage as an American and New Englander.\n\nCenterfire NOT allowed at this range - 22 Rimfire Only\n\nThere are NO range fees for this event. \nSee less
X-ALT-DESC;FMTTYPE=text/html:<div class="xdj266r x14z9mp xat24cr x1lziwak x1vvkbs" style="margin: 0px\; overflow-wrap: break-word\; font-family: &quot\;Segoe UI Historic&quot\;\, &quot\;Segoe UI&quot\;\, Helvetica\, Arial\, sans-serif\; color: rgb(226\, 229\, 233)\; font-size: 15px\; background-color: rgb(37\, 39\, 40)\;">LEARN HOW TO BE EFFECTIVE WITH YOUR RIFLE OUT TO A QUARTER MILE! Or come out and continue your quest to earn our RIFLEMAN designation if you are working towards that honor.</div>\n\n<div class="x14z9mp xat24cr x1lziwak x1vvkbs xtlvy1s" style="margin: 0.5em 0px 0px\; overflow-wrap: break-word\; font-family: &quot\;Segoe UI Historic&quot\;\, &quot\;Segoe UI&quot\;\, Helvetica\, Arial\, sans-serif\; color: rgb(226\, 229\, 233)\; font-size: 15px\; background-color: rgb(37\, 39\, 40)\;">This is a Traditional 25m Rifle Clinic. Learn more at&nbsp\;<a attributionsrc="/privacy_sandbox/comet/register/source/?xt=AZWKfe6nZl6iTpDCCIzShSZ3OWc6qr3Say-_P6YO_iQcQdpFqNLKn7PVGpDn2aCQqFAc4Vz2A0y4MOo6aD43GnlH99LJVUPVP1mUCaoR0ws7pqi4cWwOiIY1X07C59B4OuME0gpoWymfbltBWuHbLUX28JUt1bBBTXyrOifIfnOf-oEL11vH335GycDHUY_K9jH0v3tA8CWb6ntvUEJ-UWK3LhpVXQY7mpsky0bib1sooJlwfdaf195fN8ZVDwHCJ7ScYs-muGUop_UI7wJD31AnZzmOhT_vn5fjjKJCWrJEVvGo1rDVOdisf-YKUJqUfsfm_9LYDnH0qbJ222hGgS-9kA3dPYnFl0XJdhhndukgiXDXdte8rY0f3ie0GFKdTgpNExoAxZ-VygWTFH8emHg0toNSnUJau6efvnivMOIlurTZ-Xwcpiiu8DrsY3bXsGGJOGvUDAQZs1HYsHC5Jjx8_Y0FjMrKJMyKWLabI_c7365qdgMVTrVdf9e5O0FrZMecfi2VI8qrH5yL9VnKjS3d7AKCi5mxrsq7RH2uwE8i3E5dLy1wEWboxZlqL2HqLvc-ldvP-XtjdnhBGNH_Xn_ImL9NpqotBFZ8PYXb0gxhJU2t-gdv0lTkwBnKnXt37ypJfblK9rqgIBDf5TbglxstSsW7rwy-asQCyL5Q5biIJThXT5rmrA1f3tjb2Vq5uWtfEXawh4PGUoSJpSuj6ye6uVXPpzDxZE1oaGDsnfWWW-4MQ_XNdgXotyYKYWJwslIgOp3jLtrSvhVgpchNarLelHfju7RjR6eUF7xwvc0gNG78knZqHvV1CfUUVwJ61Kc6aU1sPITNT5cLVyOKEIZvxKvIGr8m9r1zvbwo52JjKg" class="x1i10hfl xjbqb8w x1ejq31n x18oe1m7 x1sy0etr xstzfhl x972fbf x10w94by x1qhh985 x14e42zd x9f619 x1ypdohk xt0psk2 xe8uvvx xdj266r x14z9mp xat24cr x1lziwak xexx8yu xyri2b x18d9i69 x1c1uobl x16tdsg8 x1hl2dhg xggy1nq x1a2a7pz xkrqix3 x1sur9pj x1fey0fg x1s688f" href="https://appleseedinfo.org/how-to-prepare/?fbclid=IwZXh0bgNhZW0CMTAAYnJpZBExRUJoU3doVXlWR2xGZnBaTgEe23i8t93jLcG9IJgkYny4Yu5-DL8ZuGzy2GIFXlViwCmjDINGs3JFGs-i7mo_aem_km_-sm732xjwa1yuLKXB_w" rel="nofollow noreferrer" role="link" style="color: rgb(90\, 167\, 255)\; cursor: pointer\; text-decoration-line: none\; list-style: none\; border-width: 0px\; margin: 0px\; text-align: inherit\; border-style: none\; padding: 0px\; box-sizing: border-box\; background-color: transparent\; outline: none\; -webkit-tap-highlight-color: transparent\; font-weight: 600\; touch-action: manipulation\; display: inline\; font-family: inherit\;" tabindex="0" target="_blank">https://appleseedinfo.org/how-to-prepare/</a></div>\n\n<div class="x14z9mp xat24cr x1lziwak x1vvkbs xtlvy1s" style="margin: 0.5em 0px 0px\; overflow-wrap: break-word\; font-family: &quot\;Segoe UI Historic&quot\;\, &quot\;Segoe UI&quot\;\, Helvetica\, Arial\, sans-serif\; color: rgb(226\, 229\, 233)\; font-size: 15px\; background-color: rgb(37\, 39\, 40)\;">We will be teaching outstanding marksmanship skills\, various shooting positions\, known distance (including range estimation\, come ups\, target detection\, and more) doing rapid fire drills under time pressure. We will also be telling the story of April 19th\, 1775 and your heritage as an American and New Englander.</div>\n\n<div class="x14z9mp xat24cr x1lziwak x1vvkbs xtlvy1s" style="margin: 0.5em 0px 0px\; overflow-wrap: break-word\; font-family: &quot\;Segoe UI Historic&quot\;\, &quot\;Segoe UI&quot\;\, Helvetica\, Arial\, sans-serif\; color: rgb(226\, 229\, 233)\; font-size: 15px\; background-color: rgb(37\, 39\, 40)\;">Centerfire NOT allowed at this range - 22 Rimfire Only</div>\n\n<div class="x14z9mp xat24cr x1lziwak x1vvkbs xtlvy1s" style="margin: 0.5em 0px 0px\; overflow-wrap: break-word\; font-family: &quot\;Segoe UI Historic&quot\;\, &quot\;Segoe UI&quot\;\, Helvetica\, Arial\, sans-serif\; color: rgb(226\, 229\, 233)\; font-size: 15px\; background-color: rgb(37\, 39\, 40)\;">There are NO range fees for this event.&nbsp\;\n<div class="x1i10hfl xjbqb8w x1ejq31n x18oe1m7 x1sy0etr xstzfhl x972fbf x10w94by x1qhh985 x14e42zd x9f619 x1ypdohk xt0psk2 xe8uvvx xdj266r x14z9mp xat24cr x1lziwak xexx8yu xyri2b x18d9i69 x1c1uobl x16tdsg8 x1hl2dhg xggy1nq x1a2a7pz xkrqix3 x1sur9pj xzsf02u x1s688f" role="button" style="list-style: none\; border-width: 0px\; margin: 0px\; text-align: inherit\; border-style: none\; padding: 0px\; cursor: pointer\; box-sizing: border-box\; background-color: transparent\; outline: none\; -webkit-tap-highlight-color: transparent\; font-weight: 600\; touch-action: manipulation\; display: inline\; font-family: inherit\;" tabindex="0">See less</div>\n</div>\n
LOCATION:Proctor Fish and Game Club 2337 VT Route 3 Proctor\, VT 05765
UID:e.3464.10317
SEQUENCE:3
DTSTAMP:20260421T120623Z
URL:https://members.rutlandvermont.com/events/details/project-appleseed-rifle-clinic-07-13-2025-10317
END:VEVENT

END:VCALENDAR
