BEGIN:VCALENDAR
VERSION:2.0
PRODID:-//ChamberMaster//Event Calendar 2.0//EN
METHOD:PUBLISH
X-PUBLISHED-TTL:P3D
REFRESH-INTERVAL:P3D
CALSCALE:GREGORIAN
BEGIN:VEVENT
DTSTART:20250629T170000Z
DTEND:20250629T180000Z
X-MICROSOFT-CDO-ALLDAYEVENT:FALSE
SUMMARY:Revoluntionary War Women of Western VT Talk
DESCRIPTION:An illustrated talk about some of the strong and resilient women and girls from western Vermont\, in the southern Lake Champlain area\, during the Revolutionary War. What were their contributions leading to settlement and as founders of their new towns and the new nation? How did the war interrupt their lives and how did they cope? Site administrator Elsa Gilbertson is the speaker.
X-ALT-DESC;FMTTYPE=text/html:An illustrated talk about some of the strong and resilient women and girls from western Vermont\, in the southern Lake Champlain area\, during the Revolutionary War. What were their contributions leading to settlement and as founders of their new towns and the new nation? How did the war interrupt their lives and how did they cope? Site administrator Elsa Gilbertson is the speaker.
LOCATION:Hubbardton Battlefield State Historic Site Hubbardton VT
UID:e.3464.10460
SEQUENCE:3
DTSTAMP:20260421T132903Z
URL:https://members.rutlandvermont.com/events/details/revoluntionary-war-women-of-western-vt-talk-10460
END:VEVENT

END:VCALENDAR
