BEGIN:VCALENDAR
VERSION:2.0
PRODID:-//ChamberMaster//Event Calendar 2.0//EN
METHOD:PUBLISH
X-PUBLISHED-TTL:P3D
REFRESH-INTERVAL:P3D
CALSCALE:GREGORIAN
BEGIN:VEVENT
DTSTART:20250802T140000Z
DTEND:20250802T170000Z
X-MICROSOFT-CDO-ALLDAYEVENT:FALSE
SUMMARY:Ribbon Cutting: Clover Expansion
DESCRIPTION:You and your family are invited to the Grand Opening of Clover Exploration!\n\n\n\nCome celebrate with us as Clover Exploration opens its doors to a world of connection\, exploration\, and sustainability. Bring the kids\, bring your curiosity\, get ready for hands-on fun\, playful activities\, and a chance to see what Clover is all about.\n\n\n\nWhen: August 2nd\, 10:00 a.m. \n\nWhere: 146 West Street in Downtown Rutland \n\nRibbon Cutting: 11:00 a.m. \n\n\n\nGrab a Play Passport! Kids can visit three different imaginative and innovative play stations\, stamp their passport at each station\, and win a special prize!\n\n\n\nWalk through the downtown location and get information about upcoming classes\, open play times\, parties\, and more!
X-ALT-DESC;FMTTYPE=text/html:<span style="position:relative\;top:-8.5pt\;"><span style="color:black\;"><span style="font-family:open sans\,sans-serif\;"><span style="font-size:10.5pt\;">You and your family are invited to the Grand Opening of <a href="https://www.cloverexploration.com/"><span style="color:#005E2F\;">Clover Exploration</span></a>!</span></span></span></span><br />\n<br />\n<span style="position:relative\;top:-8.5pt\;"><span style="color:black\;"><span style="font-family:open sans\,sans-serif\;"><span style="font-size:10.5pt\;">Come celebrate with us as Clover Exploration opens its doors to a world of connection\, exploration\, and sustainability. Bring the kids\, bring your curiosity\, get ready for hands-on fun\, playful activities\, and a chance to see what Clover is all about.</span></span></span></span><br />\n<br />\n<span style="position:relative\;top:-8.5pt\;"><span style="color:black\;"><span style="font-family:open sans\,sans-serif\;"><span style="font-size:10.5pt\;"><strong>When</strong>: August 2nd\, 10:00 a.m.&nbsp\;<br />\n<strong>Where</strong>: 146 West Street in Downtown Rutland&nbsp\;<br />\n<strong>Ribbon Cutting</strong>: 11:00 a.m.&nbsp\;</span></span></span></span><br />\n<br />\n<span style="position:relative\;top:-8.5pt\;"><span style="color:black\;"><span style="font-family:open sans\,sans-serif\;"><span style="font-size:10.5pt\;">Grab a Play Passport! Kids can visit three different imaginative and innovative play stations\, stamp their passport at each station\, and win a special prize!</span></span></span></span><br />\n<br />\n<span style="position:relative\;top:-8.5pt\;"><span style="color:black\;"><span style="font-family:open sans\,sans-serif\;"><span style="font-size:10.5pt\;">Walk through the downtown location and get information about upcoming classes\, open play times\, parties\, and more!</span></span></span></span>
LOCATION:146 West Street in Downtown Rutland
UID:e.3464.12089
SEQUENCE:3
DTSTAMP:20260421T132157Z
URL:https://members.rutlandvermont.com/events/details/ribbon-cutting-clover-expansion-12089
END:VEVENT

END:VCALENDAR
