BEGIN:VCALENDAR
VERSION:2.0
PRODID:-//ChamberMaster//Event Calendar 2.0//EN
METHOD:PUBLISH
X-PUBLISHED-TTL:P3D
REFRESH-INTERVAL:P3D
CALSCALE:GREGORIAN
BEGIN:VEVENT
DTSTART:20250621T150000Z
DTEND:20250621T210000Z
X-MICROSOFT-CDO-ALLDAYEVENT:FALSE
SUMMARY:Rutland County Pride Festival
DESCRIPTION:The 2025 Rutland County Pride Festival is happening on Saturday June 21\, 2025 from 11:00 - 5:00 PM on Center Street and Merchants Rows in Rutland\, Vermont! In partnership with the Rutland Area Branch of the NAACP\, join us as we kick off the 2025 Pride Festival with a Juneteenth Strut starting at the Rutland Free Library at 11:00 as we make our way into the festival! The festival will include: vendors\, entertainment\, speakers\, music\, drag performances\, food\, games\, prizes and more!
X-ALT-DESC;FMTTYPE=text/html:The 2025 Rutland County Pride Festival is happening on Saturday June 21\, 2025 from 11:00 - 5:00 PM on Center Street and Merchants Rows in Rutland\, Vermont! In partnership with the Rutland Area Branch of the NAACP\, join us as we kick off the 2025 Pride Festival with a Juneteenth Strut starting at the Rutland Free Library at 11:00 as we make our way into the festival! The festival will include: vendors\, entertainment\, speakers\, music\, drag performances\, food\, games\, prizes and more!
LOCATION:
UID:e.3464.9508
SEQUENCE:3
DTSTAMP:20260421T132627Z
URL:https://members.rutlandvermont.com/events/details/rutland-county-pride-festival-06-21-2025-9508
END:VEVENT

END:VCALENDAR
