BEGIN:VCALENDAR
VERSION:2.0
PRODID:-//ChamberMaster//Event Calendar 2.0//EN
METHOD:PUBLISH
X-PUBLISHED-TTL:P3D
REFRESH-INTERVAL:P3D
CALSCALE:GREGORIAN
BEGIN:VEVENT
DTSTART:20250725T210000Z
DTEND:20250726T000000Z
X-MICROSOFT-CDO-ALLDAYEVENT:FALSE
SUMMARY:S.A.L 49th Annual Car Show
DESCRIPTION:Event hosted by: S.A.L Squadron 49\n\nCome enjoy the show! \n\nFood\, Music\, Cars\, 50/50\, apparel we've got it all!!!
X-ALT-DESC;FMTTYPE=text/html:Event hosted by: S.A.L Squadron 49<br />\nCome enjoy the show!&nbsp\;<br />\nFood\, Music\, Cars\, 50/50\, apparel we&#39\;ve got it all!!!
LOCATION:South main Street Rutland\, VT 05743
UID:e.3464.11703
SEQUENCE:3
DTSTAMP:20260421T120112Z
URL:https://members.rutlandvermont.com/events/details/s-a-l-49th-annual-car-show-11703
END:VEVENT

END:VCALENDAR
