BEGIN:VCALENDAR
VERSION:2.0
PRODID:-//ChamberMaster//Event Calendar 2.0//EN
METHOD:PUBLISH
X-PUBLISHED-TTL:P3D
REFRESH-INTERVAL:P3D
CALSCALE:GREGORIAN
BEGIN:VEVENT
DTSTART:20250709T230000Z
DTEND:20250710T010000Z
X-MICROSOFT-CDO-ALLDAYEVENT:FALSE
SUMMARY:Seven to Sunset Concert Series
DESCRIPTION:The 2025 Seven to Sunset Concert Series line up is here!\n\nJune 25: Satin and Steel\n\nJuly 2: Honey\n\nJuly 9: West Rutland Rock Lab\n\nJuly 16: Aaron Audet Band\n\nJuly 23: Rick Redington & Tuff Luv\n\nJuly 30: The Scott Hopkins Trio
X-ALT-DESC;FMTTYPE=text/html:The 2025 Seven to Sunset Concert Series line up is here!<br />\nJune 25: Satin and Steel<br />\nJuly 2: Honey<br />\nJuly 9: West Rutland Rock Lab<br />\nJuly 16: Aaron Audet Band<br />\nJuly 23: Rick Redington &amp\; Tuff Luv<br />\nJuly 30: The Scott Hopkins Trio
LOCATION:Main Street Park Rutland\, VT
UID:e.3464.11494
SEQUENCE:3
DTSTAMP:20260421T120958Z
URL:https://members.rutlandvermont.com/events/details/seven-to-sunset-concert-series-07-09-2025-11494
END:VEVENT

END:VCALENDAR
