BEGIN:VCALENDAR
VERSION:2.0
PRODID:-//ChamberMaster//Event Calendar 2.0//EN
METHOD:PUBLISH
X-PUBLISHED-TTL:P3D
REFRESH-INTERVAL:P3D
CALSCALE:GREGORIAN
BEGIN:VEVENT
DTSTART:20250830T160000Z
DTEND:20250830T170000Z
X-MICROSOFT-CDO-ALLDAYEVENT:FALSE
SUMMARY:Shakespeare Alive! A Bard-Based Variety Show
DESCRIPTION:Shakespeare Alive!\n\n~A Bard-Based Variety Show~\n\n\n\nThe 2025 annual Shakespeare Alive! A Bard-Based Variety Show returns for an all-new\, FREE performance.\n\n\n\nIt's a delightful m lange of Bard-based entertainment for all ages! The Stand Up Shakespeare troupe of professional actors and singers from New York City will share its talent\, passion and creativity to amuse and amaze with the best of Shakespeare's canon as well as Bard-based skits and songs.\n\n\n\nCome for the stirring Elizabethan verse\, and stay for the music\, parody\, and witty prose! Yea\, verily\, the show is always FREE!
X-ALT-DESC;FMTTYPE=text/html:<!--StartFragment--><span data-olk-copy-source="MessageBody" style="font-family: tahoma\, sans-serif\;">Shakespeare Alive!<br />\n~A Bard-Based Variety Show~</span><br />\n<br />\nThe 2025 annual Shakespeare Alive! A Bard-Based Variety Show returns for an all-new\, FREE performance.<br />\n<br />\nIt&rsquo\;s a delightful m&eacute\;lange of Bard-based entertainment for all ages! The Stand Up Shakespeare troupe of professional actors and singers from New York City will share its talent\, passion and creativity to amuse and amaze with the best of Shakespeare&rsquo\;s canon as well as Bard-based skits and songs.<br />\n<br />\nCome for the stirring Elizabethan verse\, and stay for the music\, parody\, and witty prose! Yea\, <em>verily</em>\, the show is always FREE!
LOCATION:Calvin Coolidge State Historic Site Union Christian Church 3780 Route 100A Plymouth\, VT (Church location on 43 Messer Hill Rd.)
UID:e.3464.12096
SEQUENCE:3
DTSTAMP:20260421T132412Z
URL:https://members.rutlandvermont.com/events/details/shakespeare-alive-a-bard-based-variety-show-08-30-2025-12096
END:VEVENT

END:VCALENDAR
