BEGIN:VCALENDAR
VERSION:2.0
PRODID:-//ChamberMaster//Event Calendar 2.0//EN
METHOD:PUBLISH
X-PUBLISHED-TTL:P3D
REFRESH-INTERVAL:P3D
CALSCALE:GREGORIAN
BEGIN:VEVENT
DTSTART:20250620T233000Z
DTEND:20250621T020000Z
X-MICROSOFT-CDO-ALLDAYEVENT:FALSE
SUMMARY:Shawn Colvin & Rodney Crowell Together On Stage!
DESCRIPTION:Shawn Colvin & Rodney Crowell Together On Stage! brings together two of Americana and roots music's most respected voices for a one-of-a-kind performance.\n\nShawn Colvin stands out as a singular and enduring talent in an era when female singer-songwriters are ever more ubiquitous. Her songs are slow-release works of craft and catharsis that become treasured\, lifetime companions for their listeners. As a storyteller\, Colvin is both keen and warm-hearted\, leavening even the toughest tales with tenderness\, empathy\, and a searing sense of humor. In the 30 years since the release of her debut album\, Colvin has won three GRAMMY Awards\, released thirteen albums\, written a critically acclaimed memoir\, maintained a non-stop national and international touring schedule\, appeared on countless television and radio programs\, had her songs featured in major motion pictures and created a remarkable canon of work.\n\nRodney Crowell\, a native Texan and multi-Grammy Award winner\, is known for his prolific songwriting career\, with hits performed by artists like Johnny Cash\, Waylon Jennings\, and Keith Urban. With more than 40 years of American roots music under his belt\, Crowell has also been cited as the architect of Americana music\, extending his genre reach\, but owing to the distinctly universal\, literary quality of his writing\, he has also penned beloved songs for artists as diverse as Bob Seger\, Etta James\, the Grateful Dead\, John Denver\, Jimmy Buffett and countless others. Crowell came up in Nashville's songwriting heyday alongside Guy Clark\, Townes Van Zandt\, and Steve Earle and has continued that legacy of camaraderie and kinship with his peers well into the iconic era of his career. As many say   "your favorite song was probably written by Rodney Crowell."\n\nCrowell's memoir\, Chinaberry Sidewalks\, and his collaboration with Mary Karr on Kin showcased his poetic songwriting. He released the album Triage in 2021 and continues to be a highly respected figure in roots music.
X-ALT-DESC;FMTTYPE=text/html:<p data-end="726" data-start="131" style="box-sizing: border-box\; margin: 0px 0px 10px\; font-family: sans-serif\; line-height: 1.4em\; color: rgb(0\, 0\, 0)\; font-size: 17px\;"><strong style="box-sizing: border-box\; font-weight: bold\;"><em data-end="181" data-start="131" style="box-sizing: border-box\;">Shawn Colvin &amp\; Rodney Crowell Together On Stage!</em></strong>&nbsp\;brings together two of Americana and roots music&rsquo\;s most respected voices for a one-of-a-kind performance.</p>\n\n<p data-end="726" data-start="131" style="box-sizing: border-box\; margin: 0px 0px 10px\; font-family: sans-serif\; line-height: 1.4em\; color: rgb(0\, 0\, 0)\; font-size: 17px\;"><strong style="box-sizing: border-box\; font-weight: bold\;">Shawn Colvin</strong>&nbsp\;stands out as a singular and enduring talent in an era when female singer-songwriters are ever more ubiquitous. Her songs are slow-release works of craft and catharsis that become treasured\, lifetime companions for their listeners. As a storyteller\, Colvin is both keen and warm-hearted\, leavening even the toughest tales with tenderness\, empathy\, and a searing sense of humor. In the 30 years since the release of her debut album\, Colvin has won three GRAMMY Awards\, released thirteen albums\, written a critically acclaimed memoir\, maintained a non-stop national and international touring schedule\, appeared on countless television and radio programs\, had her songs featured in major motion pictures and created a remarkable canon of work.</p>\n\n<p data-end="1346" data-start="728" style="box-sizing: border-box\; margin: 0px 0px 10px\; font-family: sans-serif\; line-height: 1.4em\; color: rgb(0\, 0\, 0)\; font-size: 17px\;"><strong style="box-sizing: border-box\; font-weight: bold\;">Rodney Crowell</strong>\, a native Texan and multi-Grammy Award winner\, is known for his prolific songwriting career\, with hits performed by artists like Johnny Cash\, Waylon Jennings\, and Keith Urban. With more than 40 years of American roots music under his belt\, Crowell has also been cited as the architect of Americana music\, extending his genre reach\, but owing to the distinctly universal\, literary quality of his writing\, he has also penned beloved songs for artists as diverse as Bob Seger\, Etta James\, the Grateful Dead\, John Denver\, Jimmy Buffett and countless others. Crowell came up in Nashville&rsquo\;s songwriting heyday alongside Guy Clark\, Townes Van Zandt\, and Steve Earle and has continued that legacy of camaraderie and kinship with his peers well into the iconic era of his career. As many say &ndash\; &ldquo\;your favorite song was probably written by Rodney Crowell.&rdquo\;</p>\n\n<p style="box-sizing: border-box\; margin: 0px 0px 10px\; font-family: sans-serif\; line-height: 1.4em\; color: rgb(0\, 0\, 0)\; font-size: 17px\;">Crowell&rsquo\;s memoir\,&nbsp\;<i style="box-sizing: border-box\;">Chinaberry Sidewalks</i>\, and his collaboration with Mary Karr on&nbsp\;<i style="box-sizing: border-box\;">Kin</i>&nbsp\;showcased his poetic songwriting. He released the album&nbsp\;<i style="box-sizing: border-box\;">Triage</i>&nbsp\;in 2021 and continues to be a highly respected figure in roots music.</p>\n
LOCATION:30 Center Street Rutland\, VT 05701
UID:e.3464.9758
SEQUENCE:3
DTSTAMP:20260421T132541Z
URL:https://members.rutlandvermont.com/events/details/shawn-colvin-rodney-crowell-together-on-stage-9758
END:VEVENT

END:VCALENDAR
