BEGIN:VCALENDAR
VERSION:2.0
PRODID:-//ChamberMaster//Event Calendar 2.0//EN
METHOD:PUBLISH
X-PUBLISHED-TTL:P3D
REFRESH-INTERVAL:P3D
CALSCALE:GREGORIAN
BEGIN:VEVENT
DTSTART:20250618T220000Z
DTEND:20250619T000000Z
X-MICROSOFT-CDO-ALLDAYEVENT:FALSE
SUMMARY:Silent Book Club
DESCRIPTION:Join Speakeasy After dark and Phoenix Books for a book club with no assigned reading. Bring your own book\, buy a drink\, and visit the Phoenix books pop up. Then enjoy two uninterrupted hours of reading.
X-ALT-DESC;FMTTYPE=text/html:Join Speakeasy After dark and Phoenix Books for a book club with no assigned reading. Bring your own book\, buy a drink\, and visit the Phoenix books pop up. Then enjoy two uninterrupted hours of reading.&nbsp\;
LOCATION:Speakeasy Cafe 31 Center Street Rutland\, VT 05701
UID:e.3464.10084
SEQUENCE:3
DTSTAMP:20260421T132136Z
URL:https://members.rutlandvermont.com/events/details/silent-book-club-10084
END:VEVENT

END:VCALENDAR
