BEGIN:VCALENDAR
VERSION:2.0
PRODID:-//ChamberMaster//Event Calendar 2.0//EN
METHOD:PUBLISH
X-PUBLISHED-TTL:P3D
REFRESH-INTERVAL:P3D
CALSCALE:GREGORIAN
BEGIN:VEVENT
DTSTART:20250716T220000Z
DTEND:20250717T000000Z
X-MICROSOFT-CDO-ALLDAYEVENT:FALSE
SUMMARY:Silent Book Club
DESCRIPTION:Calling all book lovers!  Want to make time for reading?  Would you like time away from home but not necessarily have to interact with people?  We have just the thing...\n\nJoin Speakeasy After Dark and Phoenix Books for a book club with no assigned reading.  Bring your own book\, buy a drink\, and visit the Phoenix Books pop-up\, then enjoy two uninterrupted hours of reading.  \n\nLooking for a new book?  Phoenix Books will be on hand with a small selection of books for sale throughout the event.
X-ALT-DESC;FMTTYPE=text/html:<p style="box-sizing: border-box\; margin: 0px 0px 25px\; padding: 0px\; font-family: Roboto\, sans-serif\; font-size: 16px\;">Calling all book lovers!&nbsp\;&nbsp\;Want to make time for reading?&nbsp\; Would you like time away from home but not necessarily have to interact with people?&nbsp\; We have just the thing...</p>\n\n<p style="box-sizing: border-box\; margin: 0px 0px 25px\; padding: 0px\; font-family: Roboto\, sans-serif\; font-size: 16px\;">Join&nbsp\;<strong style="box-sizing: border-box\; font-weight: bold\;">Speakeasy After Dark&nbsp\;</strong>and&nbsp\;<strong style="box-sizing: border-box\; font-weight: bold\;">Phoenix Books</strong>&nbsp\;for a book club with no assigned reading.&nbsp\; Bring your own book\, buy a drink\, and visit the Phoenix Books pop-up\, then enjoy two uninterrupted hours of reading.&nbsp\;&nbsp\;</p>\n\n<p style="box-sizing: border-box\; margin: 0px 0px 25px\; padding: 0px\; font-family: Roboto\, sans-serif\; font-size: 16px\;">Looking for a new book?&nbsp\; Phoenix Books will be on hand with a small selection of books for sale throughout the event.</p>\n
LOCATION:Speakeasy Cafe 31 Center Street Rutland\, VT 05701
UID:e.3464.10086
SEQUENCE:3
DTSTAMP:20260421T115810Z
URL:https://members.rutlandvermont.com/events/details/silent-book-club-10086
END:VEVENT

END:VCALENDAR
