BEGIN:VCALENDAR
VERSION:2.0
PRODID:-//ChamberMaster//Event Calendar 2.0//EN
METHOD:PUBLISH
X-PUBLISHED-TTL:P3D
REFRESH-INTERVAL:P3D
CALSCALE:GREGORIAN
BEGIN:VEVENT
DTSTART:20250626T220000Z
DTEND:20250627T000000Z
X-MICROSOFT-CDO-ALLDAYEVENT:FALSE
SUMMARY:Sip N Dip
DESCRIPTION:Are YOU ready for some fun! Perfect for a date night or just out with friends! Attendees follow along with an instructor and leave with a finished acrylic painting. BYO wine. Instructor: Sally Hogan $35 per person includes all supplies\; Min: 5 Image: sailboat MUST PRE-REGISTER www.chaffeeartcenter.org
X-ALT-DESC;FMTTYPE=text/html:<span style="color: rgb(55\, 65\, 81)\; font-family: ui-sans-serif\, system-ui\, -apple-system\, BlinkMacSystemFont\, &quot\;Segoe UI&quot\;\, Roboto\, &quot\;Helvetica Neue&quot\;\, Arial\, &quot\;Noto Sans&quot\;\, sans-serif\, &quot\;Apple Color Emoji&quot\;\, &quot\;Segoe UI Emoji&quot\;\, &quot\;Segoe UI Symbol&quot\;\, &quot\;Noto Color Emoji&quot\;\; font-size: 16px\; white-space-collapse: preserve\;">Are YOU ready for some fun! Perfect for a date night or just out with friends! Attendees follow along with an instructor and leave with a finished acrylic painting. BYO wine. Instructor: Sally Hogan $35 per person includes all supplies\; Min: 5 Image: sailboat MUST PRE-REGISTER www.chaffeeartcenter.org </span>\n<div>&nbsp\;</div>\n
LOCATION:Chaffee Art Center 16 South Main Street Rutland 05701
UID:e.3464.9795
SEQUENCE:3
DTSTAMP:20260421T132006Z
URL:https://members.rutlandvermont.com/events/details/sip-n-dip-9795
END:VEVENT

END:VCALENDAR
