BEGIN:VCALENDAR
VERSION:2.0
PRODID:-//ChamberMaster//Event Calendar 2.0//EN
METHOD:PUBLISH
X-PUBLISHED-TTL:P3D
REFRESH-INTERVAL:P3D
CALSCALE:GREGORIAN
BEGIN:VEVENT
DTSTART:20250719T113000Z
DTEND:20250719T200000Z
X-MICROSOFT-CDO-ALLDAYEVENT:FALSE
SUMMARY:Slate Valley Epic
DESCRIPTION:Join Slate Valley Trails (SVT) on July 19th\, 2025 for our fifth annual Slate Valley Epic mountain bike race\, sponsored by Frost Beer Works!  This one one of SVT's biggest fundraisers of the year! Riders can expect some of the best single track riding with plenty of climbing and extraordinary views of southwestern Vermont.  This race will surely challenge you\, and be a memorable weekend in the Vermont woods!  \n\nAfter the race\, hang out and enjoy some food\, music\, refreshments\, and comradery! Primitive camping is also available at the trailhead and can be purchased during registration.
X-ALT-DESC;FMTTYPE=text/html:<span style="color: rgb(48\, 50\, 59)\; font-family: Cabin\; font-size: 20px\; background-color: rgb(246\, 246\, 243)\;">Join Slate Valley Trails (SVT) on July 19th\, 2025 for our fifth&nbsp\;annual&nbsp\;Slate Valley Epic mountain bike race\, sponsored by&nbsp\;</span><a href="https://www.frostbeerworks.com/" rel="noreferrer noopener" style="box-sizing: border-box\; border-color: currentcolor\; color: currentcolor\; cursor: pointer\; text-decoration-line: none\; font-family: Cabin\; font-size: 20px\; background-color: rgb(246\, 246\, 243)\;" target="_blank">Frost Beer Works!&nbsp\;</a><span style="color: rgb(48\, 50\, 59)\; font-family: Cabin\; font-size: 20px\; background-color: rgb(246\, 246\, 243)\;">&nbsp\;This one one of SVT&rsquo\;s biggest fundraisers of the year! Riders can expect some of the best single track riding with plenty of climbing and extraordinary views of southwestern Vermont. &nbsp\;This race will surely challenge you\, and be a memorable weekend&nbsp\;in the Vermont woods!&nbsp\;&nbsp\;<br />\nAfter the race\, hang out and enjoy some food\, music\, refreshments\, and comradery!&nbsp\;Primitive camping is also available at the trailhead and can be purchased during registration.</span><br />\n&nbsp\;
LOCATION:
UID:e.3464.9667
SEQUENCE:3
DTSTAMP:20260421T115541Z
URL:https://members.rutlandvermont.com/events/details/slate-valley-epic-9667
END:VEVENT

END:VCALENDAR
