BEGIN:VCALENDAR
VERSION:2.0
PRODID:-//ChamberMaster//Event Calendar 2.0//EN
METHOD:PUBLISH
X-PUBLISHED-TTL:P3D
REFRESH-INTERVAL:P3D
CALSCALE:GREGORIAN
BEGIN:VEVENT
DTSTART:20250731T220000Z
DTEND:20250731T233000Z
X-MICROSOFT-CDO-ALLDAYEVENT:FALSE
SUMMARY:Slow Rollers Social Ride
DESCRIPTION:Join us for a chill\, Thursday night group bike ride around Poultney.\n\nDates: Thursdays\, May 8th - October 30th\n\nTime: 6:00 PM\n\nMeet-up Location: Corner of Main St. & Depot St.\, in front of the Journal Press Building\n\nRide Highlights: Partake in a leisurely 7-9 mile ride in Poultney on a mix of pavement\, rail trail and dirt roads. No drop\, wait at all turns. No one left behind!\n\nPost-Ride Gathering: Everyone is invited to a post-ride gathering hosted at the Poultney Pub. Unwind and socialize over food and drink with fellow riders.\n\nLevel of Difficulty: Suitable for all levels of riders\, including beginners. All are welcome! The ride will be at a casual pace\, so everyone can enjoy the scenery and conversation.\n\nNeed to know:\n\n-Any bike is OK\, as long as it has functioning brakes.\n\n-Headlight and taillight required.\n\n-Helmets recommended\, required for riders under 18.
X-ALT-DESC;FMTTYPE=text/html:Join us for a chill\, Thursday night group bike ride around Poultney.<br />\nDates: Thursdays\, May 8th - October 30th<br />\nTime: 6:00 PM<br />\nMeet-up Location: Corner of Main St. &amp\; Depot St.\, in front of the Journal Press Building<br />\nRide Highlights: Partake in a leisurely 7-9 mile ride in Poultney on a mix of pavement\, rail trail and dirt roads. No drop\, wait at all turns. No one left behind!<br />\nPost-Ride Gathering: Everyone is invited to a post-ride gathering hosted at the Poultney Pub. Unwind and socialize over food and drink with fellow riders.<br />\nLevel of Difficulty: Suitable for all levels of riders\, including beginners. All are welcome! The ride will be at a casual pace\, so everyone can enjoy the scenery and conversation.<br />\nNeed to know:<br />\n-Any bike is OK\, as long as it has functioning brakes.<br />\n-Headlight and taillight required.<br />\n-Helmets recommended\, required for riders under 18.&nbsp\;
LOCATION:
UID:e.3464.12029
SEQUENCE:3
DTSTAMP:20260421T115627Z
URL:https://members.rutlandvermont.com/events/details/slow-rollers-social-ride-12029
END:VEVENT

END:VCALENDAR
