BEGIN:VCALENDAR
VERSION:2.0
PRODID:-//ChamberMaster//Event Calendar 2.0//EN
METHOD:PUBLISH
X-PUBLISHED-TTL:P3D
REFRESH-INTERVAL:P3D
CALSCALE:GREGORIAN
BEGIN:VEVENT
DTSTART;VALUE=DATE:20250808
DTEND;VALUE=DATE:20250812
TRANSP:TRANSPARENT
X-MICROSOFT-CDO-ALLDAYEVENT:TRUE
SUMMARY:SolarFest 2025
DESCRIPTION:We're celebrating with great live music\, incredibly informative workshops\, and fun arts & activities for the whole family.\n\nCheck out the the performers at Solarfest.org\, from folk to jazz and reggae to rock\, the lineup features 3 days of live music from top-quality local\, national\, and up & coming talent.\n\nDon't miss dozens of workshops with hands-on\, valuable knowledge you can use.\n\nFrom affordable housing to food\, energy\, and sustainable living\, there's personal and business information from experts and practitioners about ways to save money and live better\, while adapting to our changing world.\n\nTickets and Camping Reservations are On-Sale Now\n\nwith a few openings for volunteers to attend free!\n\nActivities include favorites like art displays from Bread & Puppet\, our large exhibitor pavilion\, the latest electric vehicles\, tours of the juice bar\, and free admission for kid's 12 & under. But we've also added some new fun with a free community dinner and movie screening on Friday.\n\nNote: Sunday is a full-day Sustainability Expo\, with free admission for all.\n\nDon't miss the fun   See you there!
X-ALT-DESC;FMTTYPE=text/html:<h4 class="wp-block-heading has-text-align-left" style="box-sizing: border-box\; font-family: Lato\; line-height: 40px\; margin-top: 10px\; margin-bottom: 22.7969px\; font-size: 24px\; color: rgb(68\, 68\, 68)\; background-color: rgb(242\, 249\, 249)\;"><span style="box-sizing: border-box\; font-weight: 700\;">We&rsquo\;re celebrating with&nbsp\;<a data-id="https://solarfest.org/festival-information/" data-type="link" href="https://solarfest.org/festival-information/" style="box-sizing: border-box\; color: rgb(30\, 115\, 190)\; text-decoration-line: none\;">great live music</a>\, incredibly informative workshops\, and fun arts &amp\; activities for the whole family.</span></h4>\n\n<h5 class="wp-block-heading has-text-align-left" style="box-sizing: border-box\; font-family: Lato\; font-weight: 700\; line-height: 24px\; margin-top: 10px\; margin-bottom: 10px\; font-size: 18px\; color: rgb(85\, 85\, 85)\; background-color: rgb(242\, 249\, 249)\;"><span style="box-sizing: border-box\;"><mark class="has-inline-color" style="box-sizing: border-box\; background-image: initial\; background-position: initial\; background-size: initial\; background-repeat: initial\; background-attachment: initial\; background-origin: initial\; background-clip: initial\; color: rgb(1\, 107\, 93)\;">Check out the&nbsp\;<a href="https://solarfest.org/music-stage/" rel="noreferrer noopener" style="box-sizing: border-box\; color: rgb(30\, 115\, 190)\; text-decoration-line: none\;" target="_blank">the performers at Solarfest.org\,</a>&nbsp\;from folk to jazz and reggae to rock\, the lineup features 3 days of live music from top-quality local\, national\, and&nbsp\;<a data-id="https://solarfest.org/singer-songwriter-showcase-2025/" data-type="link" href="https://solarfest.org/singer-songwriter-showcase-2025/" style="box-sizing: border-box\; color: rgb(30\, 115\, 190)\; text-decoration-line: none\;">up &amp\; coming talent</a>.</mark></span></h5>\n\n<h4 class="wp-block-heading has-text-align-left" style="box-sizing: border-box\; font-family: Lato\; line-height: 40px\; margin-top: 10px\; margin-bottom: 22.7969px\; font-size: 24px\; color: rgb(68\, 68\, 68)\; background-color: rgb(242\, 249\, 249)\;"><span style="box-sizing: border-box\; font-weight: 700\;">Don&rsquo\;t miss&nbsp\;<a data-id="https://solarfest.org/workshops/" data-type="link" href="https://solarfest.org/workshops/" style="box-sizing: border-box\; color: rgb(30\, 115\, 190)\; text-decoration-line: none\;">dozens of workshops&nbsp\;</a>with hands-on\, valuable knowledge you can use.</span></h4>\n\n<h5 class="wp-block-heading has-text-align-left" style="box-sizing: border-box\; font-family: Lato\; font-weight: 700\; line-height: 24px\; margin-top: 10px\; margin-bottom: 10px\; font-size: 18px\; color: rgb(85\, 85\, 85)\; background-color: rgb(242\, 249\, 249)\;"><mark class="has-inline-color" style="box-sizing: border-box\; background-image: initial\; background-position: initial\; background-size: initial\; background-repeat: initial\; background-attachment: initial\; background-origin: initial\; background-clip: initial\; color: rgb(0\, 102\, 88)\;">From affordable housing to food\, energy\, and sustainable living\, there&rsquo\;s personal and business information from&nbsp\;<a data-id="https://solarfest.org/workshop-topics-presenters/" data-type="link" href="https://solarfest.org/workshop-topics-presenters/" style="box-sizing: border-box\; color: rgb(30\, 115\, 190)\; text-decoration-line: none\;">experts and practitioners</a>&nbsp\;about ways to save money and live better\, while adapting to our changing world.</mark></h5>\n\n<h3 class="wp-block-heading has-text-align-center" style="box-sizing: border-box\; font-family: Lato\; line-height: 40px\; margin-top: 10px\; margin-bottom: 22.7969px\; font-size: 28px\; text-align: center\; background-color: rgb(242\, 249\, 249)\;"><span style="box-sizing: border-box\; font-weight: 700\;"><a href="https://www.eventbrite.com/e/solarfest-2025-tickets-1296815352629?utm-campaign=social&amp\;utm-content=attendeeshare&amp\;utm-medium=discovery&amp\;utm-term=listing&amp\;utm-source=cp&amp\;aff=ebdsshcopyurl" rel="noreferrer noopener" style="box-sizing: border-box\; color: rgb(36\, 226\, 217)\; text-decoration-line: none\; outline: -webkit-focus-ring-color auto 5px\; outline-offset: -2px\;" target="_blank">Tickets and Camping Reservations are On-Sale Now</a></span><br style="box-sizing: border-box\;" />\n<em style="box-sizing: border-box\;">with a few openings for&nbsp\;<a data-id="https://solarfest.org/volunteer/" data-type="link" href="https://solarfest.org/volunteer/" style="box-sizing: border-box\; color: rgb(30\, 115\, 190)\; text-decoration-line: none\;">volunteers to attend free!</a></em></h3>\n\n<h5 class="wp-block-heading has-text-align-center" style="box-sizing: border-box\; font-family: Lato\; font-weight: 700\; line-height: 24px\; margin-top: 10px\; margin-bottom: 10px\; font-size: 18px\; color: rgb(85\, 85\, 85)\; text-align: center\; background-color: rgb(242\, 249\, 249)\;"><mark class="has-inline-color" style="box-sizing: border-box\; background-image: initial\; background-position: initial\; background-size: initial\; background-repeat: initial\; background-attachment: initial\; background-origin: initial\; background-clip: initial\; color: rgb(0\, 102\, 88)\;">Activities include favorites like art displays from Bread &amp\; Puppet\, our large exhibitor pavilion\, the latest electric vehicles\, tours of the&nbsp\;<em style="box-sizing: border-box\;">juice bar</em>\, and free admission for kid&rsquo\;s 12 &amp\; under. But we&rsquo\;ve also added some new fun with a free community dinner and&nbsp\;<a data-id="https://solarfest.org/movie-night-far-out/" data-type="link" href="https://solarfest.org/movie-night-far-out/" style="box-sizing: border-box\; color: rgb(30\, 115\, 190)\; text-decoration-line: none\;">movie screening on Friday</a>.</mark></h5>\n\n<h4 class="wp-block-heading has-text-align-center" style="box-sizing: border-box\; font-family: Lato\; line-height: 40px\; margin-top: 10px\; margin-bottom: 22.7969px\; font-size: 24px\; color: rgb(68\, 68\, 68)\; text-align: center\; background-color: rgb(242\, 249\, 249)\;"><span style="box-sizing: border-box\; font-weight: 700\;"><a data-id="https://www.eventbrite.com/e/solarfest-2025-tickets-1296815352629?utm-campaign=social&amp\;utm-content=attendeeshare&amp\;utm-medium=discovery&amp\;utm-term=listing&amp\;utm-source=cp&amp\;aff=ebdsshcopyurl" data-type="link" href="https://www.eventbrite.com/e/solarfest-2025-tickets-1296815352629?utm-campaign=social&amp\;utm-content=attendeeshare&amp\;utm-medium=discovery&amp\;utm-term=listing&amp\;utm-source=cp&amp\;aff=ebdsshcopyurl" style="box-sizing: border-box\; color: rgb(30\, 115\, 190)\; text-decoration-line: none\;">Note: Sunday is a full-day Sustainability Expo\, with free admission for all.</a></span></h4>\n\n<h2 class="wp-block-heading has-text-align-center" style="box-sizing: border-box\; font-family: Lato\; line-height: 40px\; margin-top: 10px\; margin-bottom: 22.7969px\; font-size: 32px\; text-align: center\; background-color: rgb(242\, 249\, 249)\;"><span style="box-sizing: border-box\; font-weight: 700\;"><em style="box-sizing: border-box\;">Don&rsquo\;t miss the fun &mdash\; See you there!</em></span></h2>\n
LOCATION:SolarFest Center Brandon\, VT
UID:e.3464.12103
SEQUENCE:3
DTSTAMP:20260421T132023Z
URL:https://members.rutlandvermont.com/events/details/solarfest-2025-12103
END:VEVENT

END:VCALENDAR
