BEGIN:VCALENDAR
VERSION:2.0
PRODID:-//ChamberMaster//Event Calendar 2.0//EN
METHOD:PUBLISH
X-PUBLISHED-TTL:P3D
REFRESH-INTERVAL:P3D
CALSCALE:GREGORIAN
BEGIN:VEVENT
DTSTART:20250626T130000Z
DTEND:20250626T160000Z
X-MICROSOFT-CDO-ALLDAYEVENT:FALSE
SUMMARY:Spartan Farm Experience
DESCRIPTION:Prepare to immerse yourself in the true Spartan spirit as we gather for an unforgettable event filled with intense challenges\, camaraderie\, and the unmistakable energy of the Spartan community. Set in Pittsfield\, Vermont the birthplace of Spartan participants will face a series of raw\, gritty challenges that laid the foundation for iconic events like the Hurricane Heats\, Death Race\, Agoge\, and Mount Sparta Challenge. This rare opportunity is perfect for anyone looking to begin their journey of pushing beyond their limits and stepping into the Spartan Extreme Endurance Realm.
X-ALT-DESC;FMTTYPE=text/html:Prepare to immerse yourself in the true Spartan spirit as we gather for an unforgettable event filled with intense challenges\, camaraderie\, and the unmistakable energy of the Spartan community. Set in Pittsfield\, Vermont&mdash\;the birthplace of Spartan&mdash\;participants will face a series of raw\, gritty challenges that laid the foundation for iconic events like the Hurricane Heats\, Death Race\, Agoge\, and Mount Sparta Challenge. This rare opportunity is perfect for anyone looking to begin their journey of pushing beyond their limits and stepping into the Spartan Extreme Endurance Realm.
LOCATION:Spartan Extreme Endurance Spartan & Peak Races 57 Tweed River Dr Pittsfield VT
UID:e.3464.11997
SEQUENCE:3
DTSTAMP:20260421T132103Z
URL:https://members.rutlandvermont.com/events/details/spartan-farm-experience-11997
END:VEVENT

END:VCALENDAR
