BEGIN:VCALENDAR
VERSION:2.0
PRODID:-//ChamberMaster//Event Calendar 2.0//EN
METHOD:PUBLISH
X-PUBLISHED-TTL:P3D
REFRESH-INTERVAL:P3D
CALSCALE:GREGORIAN
BEGIN:VEVENT
DTSTART:20250622T160000Z
DTEND:20250622T220000Z
X-MICROSOFT-CDO-ALLDAYEVENT:FALSE
SUMMARY:Star Wars Unlimited Jump to Lightspeed Store Showdown
DESCRIPTION:5 divisions PeeWee(leadline) up to senior class\n\n~Barrels\n\n~Poles\n\n~ hairpin\n\nDrill team performance and food trailer!\n\n\n\nCheck out the event registration on Facebook events with search criteria of Rutland\,VT 06/22/2025 date search
X-ALT-DESC;FMTTYPE=text/html:5 divisions PeeWee(leadline) up to senior class<br />\n~Barrels<br />\n~Poles<br />\n~ hairpin<br />\nDrill team performance and food trailer!<br />\n<br />\nCheck out the event registration on Facebook events with search criteria of Rutland\,VT 06/22/2025 date search&nbsp\;
LOCATION:Draw Go Games 9 Evelyn Street Rutland VT
UID:e.3464.10462
SEQUENCE:3
DTSTAMP:20260421T132445Z
URL:https://members.rutlandvermont.com/events/details/star-wars-unlimited-jump-to-lightspeed-store-showdown-10462
END:VEVENT

END:VCALENDAR
