BEGIN:VCALENDAR
VERSION:2.0
PRODID:-//ChamberMaster//Event Calendar 2.0//EN
METHOD:PUBLISH
X-PUBLISHED-TTL:P3D
REFRESH-INTERVAL:P3D
CALSCALE:GREGORIAN
BEGIN:VEVENT
DTSTART:20250701T140000Z
DTEND:20250701T144500Z
X-MICROSOFT-CDO-ALLDAYEVENT:FALSE
SUMMARY:Stories on a String
DESCRIPTION:Join Ms. Helen\, of Green Mountain Music\, for interactive storytelling and songs for all ages! Geared for ages 2 and up.
X-ALT-DESC;FMTTYPE=text/html:<span style="color: rgb(0\, 0\, 0)\; font-family: georgia\; font-size: 16px\;">Join Ms. Helen\, of Green Mountain Music\, for interactive storytelling and songs for all ages! Geared for ages 2 and up.&nbsp\;</span>
LOCATION:Fox Room Rutland Free Library10 Court St \, Rutland \, VT\, 05701
UID:e.3464.12013
SEQUENCE:3
DTSTAMP:20260421T114557Z
URL:https://members.rutlandvermont.com/events/details/stories-on-a-string-12013
END:VEVENT

END:VCALENDAR
