BEGIN:VCALENDAR
VERSION:2.0
PRODID:-//ChamberMaster//Event Calendar 2.0//EN
METHOD:PUBLISH
X-PUBLISHED-TTL:P3D
REFRESH-INTERVAL:P3D
CALSCALE:GREGORIAN
BEGIN:VEVENT
DTSTART:20250729T140000Z
DTEND:20250729T144500Z
X-MICROSOFT-CDO-ALLDAYEVENT:FALSE
SUMMARY:Stories on a String
DESCRIPTION:Join Ms. Helen\, of Green Mountain Music\, for interactive storytelling and songs for all ages! Geared for ages 2 and up. \n\n\n\nNo Registration Required
X-ALT-DESC;FMTTYPE=text/html:<div class="event-description wysiwyg cf" style="margin: 0px 0px 1em\; padding: 0px\; box-sizing: border-box\; zoom: 1\; line-height: 1.5\; position: relative\; font-family: georgia\; color: rgb(0\, 0\, 0)\; font-size: 16px\;">\n<p style="margin: 0px 0px 1em\; padding: 0px\; box-sizing: border-box\; line-height: 1.5\;">Join Ms. Helen\, of Green Mountain Music\, for interactive storytelling and songs for all ages! Geared for ages 2 and up.&nbsp\;</p>\n</div>\n\n<div class="event-registration-information" style="margin: 0px\; padding: 1em 0px\; box-sizing: border-box\; border-top: 1px solid rgb(209\, 211\, 212)\; color: rgb(0\, 0\, 0)\; font-family: &quot\;Source Sans 3&quot\;\, tahoma\, arial\, sans-serif\; font-size: 16px\;">\n<p class="event-registration-not-required" style="margin: 0px 0px 1em\; padding: 0px\; box-sizing: border-box\; line-height: 1.5\;">No Registration Required</p>\n</div>\n
LOCATION:Fox Room Rutland Free Library10 Court St \, Rutland \, VT\, 05701
UID:e.3464.12023
SEQUENCE:3
DTSTAMP:20260421T114642Z
URL:https://members.rutlandvermont.com/events/details/stories-on-a-string-12023
END:VEVENT

END:VCALENDAR
